BEGIN:VCALENDAR
VERSION:2.0
PRODID:-//UM//UM*Events//EN
CALSCALE:GREGORIAN
BEGIN:VTIMEZONE
TZID:America/Detroit
TZURL:http://tzurl.org/zoneinfo/America/Detroit
X-LIC-LOCATION:America/Detroit
BEGIN:DAYLIGHT
TZOFFSETFROM:-0500
TZOFFSETTO:-0400
TZNAME:EDT
DTSTART:20070311T020000
RRULE:FREQ=YEARLY;BYMONTH=3;BYDAY=2SU
END:DAYLIGHT
BEGIN:STANDARD
TZOFFSETFROM:-0400
TZOFFSETTO:-0500
TZNAME:EST
DTSTART:20071104T020000
RRULE:FREQ=YEARLY;BYMONTH=11;BYDAY=1SU
END:STANDARD
END:VTIMEZONE
BEGIN:VEVENT
DTSTAMP:20260306T130452
DTSTART;TZID=America/Detroit:20260430T090000
DTEND;TZID=America/Detroit:20260430T163000
SUMMARY:Exhibition:From Freddy to Quentin: The On-Set Still Photography of Joyce Rudolph
DESCRIPTION:Joyce Rudolph has photographed some iconic actors and characters in her role as still photographer for the movies. This sampling of images from her papers\, which are housed as part of the Special Collections Research Center's Mavericks & Makers collection\, include the first images of Freddy Krueger in \"A Nightmare on Elm Street\,\" Arnold Schwenegger in \"The Terminator\,\" legends Jack Nicholson\, Diane Keaton\, Sean Penn\, and Robert DeNiro\, as well as directors such as Quentin Tarantino\, Martin Scorsese\, and her husband\, Alan Rudolph.
UID:146264-21898798@events.umich.edu
URL:https://events.umich.edu/event/146264
CLASS:PUBLIC
STATUS:CONFIRMED
CATEGORIES:Free,Library
LOCATION:Hatcher Graduate Library - Special Collections Research Center, 6th floor
CONTACT:
END:VEVENT
END:VCALENDAR