BEGIN:VCALENDAR
VERSION:2.0
PRODID:-//UM//UM*Events//EN
CALSCALE:GREGORIAN
BEGIN:VTIMEZONE
TZID:America/Detroit
TZURL:http://tzurl.org/zoneinfo/America/Detroit
X-LIC-LOCATION:America/Detroit
BEGIN:DAYLIGHT
TZOFFSETFROM:-0500
TZOFFSETTO:-0400
TZNAME:EDT
DTSTART:20070311T020000
RRULE:FREQ=YEARLY;BYMONTH=3;BYDAY=2SU
END:DAYLIGHT
BEGIN:STANDARD
TZOFFSETFROM:-0400
TZOFFSETTO:-0500
TZNAME:EST
DTSTART:20071104T020000
RRULE:FREQ=YEARLY;BYMONTH=11;BYDAY=1SU
END:STANDARD
END:VTIMEZONE
BEGIN:VEVENT
DTSTAMP:20260312T112858
DTSTART;TZID=America/Detroit:20260626T200000
SUMMARY:Performance:Gregory Stovetop
DESCRIPTION:Music from the heart\, wired to the cosmos\n\nGregory Stovetop is a singer songwriter from Chelsea\, Michigan blending cosmic folk\, rock ’n’ roll grit\, and heart-scorched soul. With albums (The Good Stuff\, Hot Stuff) and influences like Paul Westerberg\, Tom Petty and Pat Benatar. His music channels transformation\, reverence\, and mystic fire. Currently recording an acoustic record with Dominic John Davis ( Steppin in it /Jack White) will be released in the Summer of 2026\, Stovetop’s sound is raw\, radiant\, and unmistakably his own.
UID:146275-21898826@events.umich.edu
URL:https://events.umich.edu/event/146275
CLASS:PUBLIC
STATUS:CONFIRMED
CATEGORIES:Ark,Mutotix
LOCATION:ARK Reserved
CONTACT:
END:VEVENT
END:VCALENDAR