BEGIN:VCALENDAR
VERSION:2.0
PRODID:-//UM//UM*Events//EN
CALSCALE:GREGORIAN
BEGIN:VTIMEZONE
TZID:America/Detroit
TZURL:http://tzurl.org/zoneinfo/America/Detroit
X-LIC-LOCATION:America/Detroit
BEGIN:DAYLIGHT
TZOFFSETFROM:-0500
TZOFFSETTO:-0400
TZNAME:EDT
DTSTART:20070311T020000
RRULE:FREQ=YEARLY;BYMONTH=3;BYDAY=2SU
END:DAYLIGHT
BEGIN:STANDARD
TZOFFSETFROM:-0400
TZOFFSETTO:-0500
TZNAME:EST
DTSTART:20071104T020000
RRULE:FREQ=YEARLY;BYMONTH=11;BYDAY=1SU
END:STANDARD
END:VTIMEZONE
BEGIN:VEVENT
DTSTAMP:20260323T145452
DTSTART;TZID=America/Detroit:20260413T180000
DTEND;TZID=America/Detroit:20260413T190000
SUMMARY:Meeting:Regular Club Meeting
DESCRIPTION:Join us to discuss all things houseplants! We host both informative and hand-ons meeting\, check out our Instagram and our GroupMe to see what we're doing in the coming weeks.
UID:146931-21899805@events.umich.edu
URL:https://events.umich.edu/event/146931
CLASS:PUBLIC
STATUS:CONFIRMED
CATEGORIES:Environmental,Free,Houseplants,Plants,Social,Student Org
LOCATION:East Quadrangle - 1511
CONTACT:
END:VEVENT
END:VCALENDAR