BEGIN:VCALENDAR
VERSION:2.0
PRODID:-//UM//UM*Events//EN
CALSCALE:GREGORIAN
BEGIN:VTIMEZONE
TZID:America/Detroit
TZURL:http://tzurl.org/zoneinfo/America/Detroit
X-LIC-LOCATION:America/Detroit
BEGIN:DAYLIGHT
TZOFFSETFROM:-0500
TZOFFSETTO:-0400
TZNAME:EDT
DTSTART:20070311T020000
RRULE:FREQ=YEARLY;BYMONTH=3;BYDAY=2SU
END:DAYLIGHT
BEGIN:STANDARD
TZOFFSETFROM:-0400
TZOFFSETTO:-0500
TZNAME:EST
DTSTART:20071104T020000
RRULE:FREQ=YEARLY;BYMONTH=11;BYDAY=1SU
END:STANDARD
END:VTIMEZONE
BEGIN:VEVENT
DTSTAMP:20260325T100027
DTSTART;TZID=America/Detroit:20260722T200000
SUMMARY:Performance:Kaki King
DESCRIPTION:A landscape of sound that pulls at the heart and invites you in.\n\nDubbed by Rolling Stone as \"a genre unto herself\,\" Brooklyn\, NY-based Kaki King has proven to be just that.  Her career has taken her all over the world\, sharing stages with Dave Grohl of Foo Fighters\, contributing music to award-winning films (Sean Penn's Into The Wild)\, and performing at the London Jazz Festival and the Paris Les Femmes s'en Melent.  \n\nHer explorations into the guitar and multimedia have led to the creation of groundbreaking work such as The Neck Is A Bridge To The Body\, Modern Yesterdays\, and a new multi-media musical production for children called BUGS. Kaki continues to create\, perform\, and lend her musical voice to the forefront of contemporary music\, as shown on her 2025 EP\, Tutto Passa\, and recent album\, SEI\, the soundtrack to a unique performance piece where guitarists become dancers\, coordinating their whole bodies to perform the rigors of both choreography and composition.  \n\nEndorsed by Ovation Guitars\, Kaki released the EP Stop Sometime last August and remains a force on the music scene\, touring Italy and Germany in the fall and performing both solo and BUGS shows throughout parts of the United States into 2026\, while also and scheduling yet another EP for release on February 13.
UID:147010-21900238@events.umich.edu
URL:https://events.umich.edu/event/147010
CLASS:PUBLIC
STATUS:CONFIRMED
CATEGORIES:Ark,Mutotix
LOCATION:ARK Reserved
CONTACT:
END:VEVENT
END:VCALENDAR