BEGIN:VCALENDAR
VERSION:2.0
PRODID:-//UM//UM*Events//EN
CALSCALE:GREGORIAN
BEGIN:VTIMEZONE
TZID:America/Detroit
TZURL:http://tzurl.org/zoneinfo/America/Detroit
X-LIC-LOCATION:America/Detroit
BEGIN:DAYLIGHT
TZOFFSETFROM:-0500
TZOFFSETTO:-0400
TZNAME:EDT
DTSTART:20070311T020000
RRULE:FREQ=YEARLY;BYMONTH=3;BYDAY=2SU
END:DAYLIGHT
BEGIN:STANDARD
TZOFFSETFROM:-0400
TZOFFSETTO:-0500
TZNAME:EST
DTSTART:20071104T020000
RRULE:FREQ=YEARLY;BYMONTH=11;BYDAY=1SU
END:STANDARD
END:VTIMEZONE
BEGIN:VEVENT
DTSTAMP:20260325T100505
DTSTART;TZID=America/Detroit:20260813T200000
SUMMARY:Performance:Raynes
DESCRIPTION:Sophisticated\, irresistibly catchy folk-pop\n\nBritish-American trio Raynes formed when Mat Charley and Joe Berger\, both born and raised in North Dakota\, came across a video of UK native Mark Race on Instagram and fell in love—first with his face\, then with his voice. After a few messages and phone calls\, Mark was on a plane to the US to start a band (a few months later\, he had the flight number tattooed on his arm).\n\nSince then\, Raynes has signed with Sony Music Publishing and released six singles and four EPs\, drawing hundreds of thousands of monthly listeners and tens of millions of streams and earning press in Billboard and People. They’ve performed at BottleRock Festival and in clubs\, concert halls\, and amphitheaters across the US and the UK\, developing a reputation as a high-energy live act.\n\nIn 2025\, Raynes’ rendition of “I Want You to Want Me” was featured in an episode of Love Is Blind on Netflix.\n\nKnown for their intricate vocal harmonies and unique instrumentation as well as their poetic lyrics\, Raynes has yet to come up with a good answer as to what genre their music falls under. With all three members coming from different musical backgrounds\, the boys combine their diverse influences to form a group that draws inspiration from around the globe\, incorporating elements of folk\, rock\, and chamber pop with Celtic and world music to create a wholly original—and difficult to categorize—sound.
UID:147011-21900239@events.umich.edu
URL:https://events.umich.edu/event/147011
CLASS:PUBLIC
STATUS:CONFIRMED
CATEGORIES:Ark,Mutotix
LOCATION:ARK Reserved
CONTACT:
END:VEVENT
END:VCALENDAR