BEGIN:VCALENDAR
VERSION:2.0
PRODID:-//UM//UM*Events//EN
CALSCALE:GREGORIAN
BEGIN:VTIMEZONE
TZID:America/Detroit
TZURL:http://tzurl.org/zoneinfo/America/Detroit
X-LIC-LOCATION:America/Detroit
BEGIN:DAYLIGHT
TZOFFSETFROM:-0500
TZOFFSETTO:-0400
TZNAME:EDT
DTSTART:20070311T020000
RRULE:FREQ=YEARLY;BYMONTH=3;BYDAY=2SU
END:DAYLIGHT
BEGIN:STANDARD
TZOFFSETFROM:-0400
TZOFFSETTO:-0500
TZNAME:EST
DTSTART:20071104T020000
RRULE:FREQ=YEARLY;BYMONTH=11;BYDAY=1SU
END:STANDARD
END:VTIMEZONE
BEGIN:VEVENT
DTSTAMP:20260327T151454
DTSTART;TZID=America/Detroit:20260619T200000
SUMMARY:Performance:BLKBOK
DESCRIPTION:Piano star x culture creator\n\nBorn and raised in Detroit’s inner city\, BLKBOK (born Charles Wilson III) grew up in a music-filled home and was an acclaimed piano prodigy by age eight\, winning statewide accolades and college-level competitions. While many of his peers pursued hip-hop\, Charles chose the name BLKBOK\, a nod to one of the greatest pianists and composers of all time and a reflection of his journey from pop and hip-hop culture to his critically acclaimed neo-classical debut album Black Book and subsequent mixtape projects and collaborations. \n\nBLKBOK’s live\, high-energy performances are culturally reflective\, delivering a piano-based experience unlike any other. His vision is to illuminate awareness\, encouraging dialogue and counterpoint in how we perceive ourselves and the world we share.\n \nHis debut album Black Book served as a cornerstone of the inaugural Juneteenth Foundation Freedom Concert and was later re-released as a DLUX Edition featuring “Forgotten Girls” and “Kendrick + Karine.” His mixtape CVRART and collaborative project \"Angels Watching Over Me\" with world-renowned tenor Lawrence Brownlee further showcase his innovative voice. His original composition “Stars (Ad Astra)” became the first-ever piano duet performed from space in 2022.\n \nClosing out 2025\, BLKBOK released Urban Etudes: Vol. 1\, a collaborative EP with Beats by JT that blends classical form with rhythm in a powerful sonic dialogue. He carried that creative momentum into January 2026 with Peaceful Piano: The Self-Love Mixtape\, an intimate and reflective project centered on breath\, space\, and emotional clarity\, a calm exploration of self-love as both foundation and beginning. \n\nBuilding on this evolution\, The New Classical Tour debuted in New York City\, Natick\, and Toledo\, with additional dates to be announced. He is currently composing a new Concerto set for premiere this summer.\n \nMore than an artist\, BLKBOK is a movement - breaking barriers and inspiring change through sound.
UID:147013-21900241@events.umich.edu
URL:https://events.umich.edu/event/147013
CLASS:PUBLIC
STATUS:CONFIRMED
CATEGORIES:Ark,Mutotix
LOCATION:ARK Reserved
CONTACT:
END:VEVENT
END:VCALENDAR