BEGIN:VCALENDAR
VERSION:2.0
PRODID:-//UM//UM*Events//EN
CALSCALE:GREGORIAN
BEGIN:VTIMEZONE
TZID:America/Detroit
TZURL:http://tzurl.org/zoneinfo/America/Detroit
X-LIC-LOCATION:America/Detroit
BEGIN:DAYLIGHT
TZOFFSETFROM:-0500
TZOFFSETTO:-0400
TZNAME:EDT
DTSTART:20070311T020000
RRULE:FREQ=YEARLY;BYMONTH=3;BYDAY=2SU
END:DAYLIGHT
BEGIN:STANDARD
TZOFFSETFROM:-0400
TZOFFSETTO:-0500
TZNAME:EST
DTSTART:20071104T020000
RRULE:FREQ=YEARLY;BYMONTH=11;BYDAY=1SU
END:STANDARD
END:VTIMEZONE
BEGIN:VEVENT
DTSTAMP:20260327T101344
DTSTART;TZID=America/Detroit:20261105T200000
SUMMARY:Performance:John Cowan Trio
DESCRIPTION:The voice of newgrass\n\nWhen John Cowan and Luke Bulla perform together\, their shows reflect 25 years of shared history\, musical trust\, and genuine friendship. Blending New Grass Revival (and more) favorites with old and new originals\, they pair masterful picking\, rich harmony\, and stories that are heartfelt\, funny\, and hard-earned. Cowan calls Bulla “one of the most beautiful gifts” of his long musical life\, while Bulla\, inspired by Cowan since his youth\, considers sharing the stage a “dream come true” and a source of “immense gratitude and honor.” Together\, they deliver music rooted in gratitude\, joy\, and deep mutual respect. This evening they perform as a trio with Sam Leslie.
UID:147015-21900243@events.umich.edu
URL:https://events.umich.edu/event/147015
CLASS:PUBLIC
STATUS:CONFIRMED
CATEGORIES:Ark,Mutotix
LOCATION:ARK Reserved
CONTACT:
END:VEVENT
END:VCALENDAR