BEGIN:VCALENDAR
VERSION:2.0
PRODID:-//UM//UM*Events//EN
CALSCALE:GREGORIAN
BEGIN:VTIMEZONE
TZID:America/Detroit
TZURL:http://tzurl.org/zoneinfo/America/Detroit
X-LIC-LOCATION:America/Detroit
BEGIN:DAYLIGHT
TZOFFSETFROM:-0500
TZOFFSETTO:-0400
TZNAME:EDT
DTSTART:20070311T020000
RRULE:FREQ=YEARLY;BYMONTH=3;BYDAY=2SU
END:DAYLIGHT
BEGIN:STANDARD
TZOFFSETFROM:-0400
TZOFFSETTO:-0500
TZNAME:EST
DTSTART:20071104T020000
RRULE:FREQ=YEARLY;BYMONTH=11;BYDAY=1SU
END:STANDARD
END:VTIMEZONE
BEGIN:VEVENT
DTSTAMP:20260327T100007
DTSTART;TZID=America/Detroit:20260628T193000
SUMMARY:Performance:Matt Watroba
DESCRIPTION:Many know Matt Watroba as the voice of folk music in Michigan for his work producing and hosting shows for public radio. He has devoted his life and career to being a custodian of American folk and roots music. This has helped shape a repertoire and presentation that is unique on stages across the state and country. He is committed to inspiring the world to sing-- one town at a time. In 2019\, Matt\, along with his life-long musical partner Robert Jones\, Co-founded the Detroit Non-Profit\, Common Chords. Also in 2019\, Matt was inducted into the Folk DJ Hall of Fame at the Folk Alliance International conference in Montreal.
UID:147016-21900244@events.umich.edu
URL:https://events.umich.edu/event/147016
CLASS:PUBLIC
STATUS:CONFIRMED
CATEGORIES:Ark,Mutotix
LOCATION:ARK Reserved
CONTACT:
END:VEVENT
END:VCALENDAR