BEGIN:VCALENDAR
VERSION:2.0
PRODID:-//UM//UM*Events//EN
CALSCALE:GREGORIAN
BEGIN:VTIMEZONE
TZID:America/Detroit
TZURL:http://tzurl.org/zoneinfo/America/Detroit
X-LIC-LOCATION:America/Detroit
BEGIN:DAYLIGHT
TZOFFSETFROM:-0500
TZOFFSETTO:-0400
TZNAME:EDT
DTSTART:20070311T020000
RRULE:FREQ=YEARLY;BYMONTH=3;BYDAY=2SU
END:DAYLIGHT
BEGIN:STANDARD
TZOFFSETFROM:-0400
TZOFFSETTO:-0500
TZNAME:EST
DTSTART:20071104T020000
RRULE:FREQ=YEARLY;BYMONTH=11;BYDAY=1SU
END:STANDARD
END:VTIMEZONE
BEGIN:VEVENT
DTSTAMP:20260416T082327
DTSTART;TZID=America/Detroit:20260504T160000
DTEND;TZID=America/Detroit:20260504T170000
SUMMARY:Workshop / Seminar:2026 Rackham Student AI Working Groups Symposium
DESCRIPTION:We are pleased to invite the campus community to the Rackham Student AI Working Groups Symposium on May 4\, 2026\, with a poster session from 2:00 to 3:30 p.m. and a keynote address by Professor Latanya Sweeney\, Daniel Paul Professor of the Practice of Government and Technology at the Harvard Kennedy School\, from 4:00 to 5:00 p.m. These aspects of the symposium are open to the U-M community. This event showcases cutting-edge graduate student research on AI\, highlighting opportunities for cross-disciplinary collaboration\, ethical reflection\, and creative applications of emerging technologies. Attendees will have the chance to explore innovative projects during the poster session and hear insights from a leading expert in AI.
UID:147039-21900267@events.umich.edu
URL:https://events.umich.edu/event/147039
CLASS:PUBLIC
STATUS:CONFIRMED
CATEGORIES:Rgs Events,Rgs-events,Sessions
LOCATION:Ballroom, Second Floor, Michigan League
CONTACT:
END:VEVENT
END:VCALENDAR