BEGIN:VCALENDAR
VERSION:2.0
PRODID:-//UM//UM*Events//EN
CALSCALE:GREGORIAN
BEGIN:VTIMEZONE
TZID:America/Detroit
TZURL:http://tzurl.org/zoneinfo/America/Detroit
X-LIC-LOCATION:America/Detroit
BEGIN:DAYLIGHT
TZOFFSETFROM:-0500
TZOFFSETTO:-0400
TZNAME:EDT
DTSTART:20070311T020000
RRULE:FREQ=YEARLY;BYMONTH=3;BYDAY=2SU
END:DAYLIGHT
BEGIN:STANDARD
TZOFFSETFROM:-0400
TZOFFSETTO:-0500
TZNAME:EST
DTSTART:20071104T020000
RRULE:FREQ=YEARLY;BYMONTH=11;BYDAY=1SU
END:STANDARD
END:VTIMEZONE
BEGIN:VEVENT
DTSTAMP:20260422T102022
DTSTART;TZID=America/Detroit:20260422T110000
DTEND;TZID=America/Detroit:20260422T120000
SUMMARY:Workshop / Seminar:OS Honors Symposium
DESCRIPTION:Come hear about the honors research of OS seniors Lindsey Smith and Eden Wilcomes!Lost in Translation: The Role of Spanish-Language Political Advertising and Communications Agencies - Eden Wilcomes\nAs the Hispanic population of the United States continues to rise\, so too does the Hispanic electorate’s influence in national elections. Similarly\, as the prominence of the Latino vote becomes more noticeable\, so does the attention of politicians. In order to appeal to Latino voters\, many politicians and campaigns seek the help of Spanish-language political communications agencies\, yet there exists little research on political communications and advertising agencies generally\, and even less on specialized agencies. By conducting interviews with employees of Spanish-language agencies\, politicians and their staff\, and Spanish-language communications experts\, I was able to better understand the importance and purpose of Spanish-language political advertising.Present-Day Panopticon: Reactions to Electronic Surveillance Among Young Professionals Entering the Workforce - Lindsey Smith\nWith the rise of technology\, employers have increasing access to data on their employees' actions and productivity. Interview based research was conducted with University of Michigan juniors and seniors who recently interned in large business organizations. My findings highlight how interns react to surveillance (or the possibility of it) and this age group's perspective on surveillance as a whole. 
UID:147103-21900379@events.umich.edu
URL:https://events.umich.edu/event/147103
CLASS:PUBLIC
STATUS:CONFIRMED
CATEGORIES:Sessions
LOCATION:855 Weiser
CONTACT:
END:VEVENT
END:VCALENDAR