BEGIN:VCALENDAR
VERSION:2.0
PRODID:-//UM//UM*Events//EN
CALSCALE:GREGORIAN
BEGIN:VTIMEZONE
TZID:America/Detroit
TZURL:http://tzurl.org/zoneinfo/America/Detroit
X-LIC-LOCATION:America/Detroit
BEGIN:DAYLIGHT
TZOFFSETFROM:-0500
TZOFFSETTO:-0400
TZNAME:EDT
DTSTART:20070311T020000
RRULE:FREQ=YEARLY;BYMONTH=3;BYDAY=2SU
END:DAYLIGHT
BEGIN:STANDARD
TZOFFSETFROM:-0400
TZOFFSETTO:-0500
TZNAME:EST
DTSTART:20071104T020000
RRULE:FREQ=YEARLY;BYMONTH=11;BYDAY=1SU
END:STANDARD
END:VTIMEZONE
BEGIN:VEVENT
DTSTAMP:20260330T101010
DTSTART;TZID=America/Detroit:20260421T170000
DTEND;TZID=America/Detroit:20260421T183000
SUMMARY:Social / Informal Gathering:LSA@Play: End-of-Year Bash
DESCRIPTION:You made it\, and now it's time to celebrate! Join us for BBQ\, lawn games\, swag\, a t-shirt screenprinting station\, and more! One lucky student will win a Yeti cooler.\n\nIn partnership with LSA Student Government and the U-M Arts Initiative.\n__________\nFor LSA undergrads only. Join us for LSA@Play\, a vibrant series of events designed to welcome and support LSA students! Gatherings and activities offer an opportunity for students to prioritize well-being\, inclusivity\, and community. Plus\, get free food and LSA swag! Visit the LSA@Play webpage: lsa.umich.edu/play for more details\, subscribe to receive text/email updates\, and check for additional events being added soon! Events are first-come\, first-served\, and while supplies last. One swag item per student\, and you must be present with an MCard to receive it.\n\nThe University of Michigan College of Literature\, Science\, and the Arts (LSA) greatly values inclusion and access for all. We are pleased to provide reasonable accommodations to enable your full participation in this event. Please email lsaatplay@umich.edu if you would like to request disability accommodations or have any questions or concerns. We ask that you provide advance notice to ensure sufficient time to meet the requested accommodations.
UID:147202-21900520@events.umich.edu
URL:https://events.umich.edu/event/147202
CLASS:PUBLIC
STATUS:CONFIRMED
CATEGORIES:Food,Free,Games,Outdoors,Picnic,Undergraduate,Well-being
LOCATION:Regents Plaza
CONTACT:
END:VEVENT
END:VCALENDAR