BEGIN:VCALENDAR
VERSION:2.0
PRODID:-//UM//UM*Events//EN
CALSCALE:GREGORIAN
BEGIN:VTIMEZONE
TZID:America/Detroit
TZURL:http://tzurl.org/zoneinfo/America/Detroit
X-LIC-LOCATION:America/Detroit
BEGIN:DAYLIGHT
TZOFFSETFROM:-0500
TZOFFSETTO:-0400
TZNAME:EDT
DTSTART:20070311T020000
RRULE:FREQ=YEARLY;BYMONTH=3;BYDAY=2SU
END:DAYLIGHT
BEGIN:STANDARD
TZOFFSETFROM:-0400
TZOFFSETTO:-0500
TZNAME:EST
DTSTART:20071104T020000
RRULE:FREQ=YEARLY;BYMONTH=11;BYDAY=1SU
END:STANDARD
END:VTIMEZONE
BEGIN:VEVENT
DTSTAMP:20260422T130918
DTSTART;TZID=America/Detroit:20260430T133000
DTEND;TZID=America/Detroit:20260430T153000
SUMMARY:Conference / Symposium:2026 Ph.D. Connections Career Conference
DESCRIPTION:During Ph.D. Connections\, participants will be able to learn from industry experts about an array of careers in an interactive and supportive environment.\n\nThe goals of Ph.D. Connections are to enable students and postdocs to:\n\nIncrease Awareness: Discover careers available to Ph.D. holders in a variety of industries and sectors.\nDevelop Skills: Learn about skills and key competencies important in different industries.\nNetwork Effectively: Develop strategies and connections to explore careers and foster lifelong networking practice.\n\nPh.D. Connections is co-sponsored by the University Career Center\, Rackham Graduate School\, and the Office of Graduate and Postdoctoral Studies at the University of Michigan Medical School.\n\nRegistration Instructions: Please ensure that you have selected all the sessions that interest you before submitting your registration.
UID:147238-21900584@events.umich.edu
URL:https://events.umich.edu/event/147238
CLASS:PUBLIC
STATUS:CONFIRMED
CATEGORIES:rackham,rackham graduate school,Rgs Events,Rgs-events,Sessions
LOCATION:West Conference Room - 4th Floor
CONTACT:
END:VEVENT
END:VCALENDAR