BEGIN:VCALENDAR
VERSION:2.0
PRODID:-//UM//UM*Events//EN
CALSCALE:GREGORIAN
BEGIN:VTIMEZONE
TZID:America/Detroit
TZURL:http://tzurl.org/zoneinfo/America/Detroit
X-LIC-LOCATION:America/Detroit
BEGIN:DAYLIGHT
TZOFFSETFROM:-0500
TZOFFSETTO:-0400
TZNAME:EDT
DTSTART:20070311T020000
RRULE:FREQ=YEARLY;BYMONTH=3;BYDAY=2SU
END:DAYLIGHT
BEGIN:STANDARD
TZOFFSETFROM:-0400
TZOFFSETTO:-0500
TZNAME:EST
DTSTART:20071104T020000
RRULE:FREQ=YEARLY;BYMONTH=11;BYDAY=1SU
END:STANDARD
END:VTIMEZONE
BEGIN:VEVENT
DTSTAMP:20260331T153740
DTSTART;TZID=America/Detroit:20260420T084500
DTEND;TZID=America/Detroit:20260420T164500
SUMMARY:Exhibition:The Midwest's Genesis: A Rare Look at the Northwest Ordinance of 1787
DESCRIPTION:A special display at the Gerald Ford Presidential Library will feature the Northwest Ordinance of 1787\, on loan from the NARA\, and on display in Michigan for the first time. Drafted by the Confederation Congress at the same time as the Constitution\, the Ordinance outlined a framework for government in the northwest territory\, defined the rights guaranteed in that territory\, and created a process for admitting new states to the United States. The display offers a rare opportunity to view a document that helped shape the ideals and values of the young nation.
UID:147304-21900682@events.umich.edu
URL:https://events.umich.edu/event/147304
CLASS:PUBLIC
STATUS:CONFIRMED
CATEGORIES:American History,michigan history,Northwest Ordinance
LOCATION:Gerald Ford Library - Auditorium
CONTACT:
END:VEVENT
END:VCALENDAR