BEGIN:VCALENDAR
VERSION:2.0
PRODID:-//UM//UM*Events//EN
CALSCALE:GREGORIAN
BEGIN:VTIMEZONE
TZID:America/Detroit
TZURL:http://tzurl.org/zoneinfo/America/Detroit
X-LIC-LOCATION:America/Detroit
BEGIN:DAYLIGHT
TZOFFSETFROM:-0500
TZOFFSETTO:-0400
TZNAME:EDT
DTSTART:20070311T020000
RRULE:FREQ=YEARLY;BYMONTH=3;BYDAY=2SU
END:DAYLIGHT
BEGIN:STANDARD
TZOFFSETFROM:-0400
TZOFFSETTO:-0500
TZNAME:EST
DTSTART:20071104T020000
RRULE:FREQ=YEARLY;BYMONTH=11;BYDAY=1SU
END:STANDARD
END:VTIMEZONE
BEGIN:VEVENT
DTSTAMP:20260402T091231
DTSTART;TZID=America/Detroit:20260429T140000
DTEND;TZID=America/Detroit:20260429T153000
SUMMARY:Reception / Open House:LSA Global Graduates Celebration
DESCRIPTION:All graduating international students and their guests are invited to join the College of LSA in celebrating our global graduates.\n\n - Stop by anytime during this casual\, open-house style event.\n - Enjoy light refreshments\, a photo station\, swag\, and more! \n - Raffle drawings begin at 3:00 p.m. (Must be present to win.)\n\nRSVP by Friday\, April 17 (https://forms.gle/NpWnCi36rZsBbjys8)\nGrads are welcome to bring up to 2 guests and must register themselves and all guests. U-M login required.
UID:147344-21900853@events.umich.edu
URL:https://events.umich.edu/event/147344
CLASS:PUBLIC
STATUS:CONFIRMED
CATEGORIES:Food,Free,Graduation,International,Reception
LOCATION:LSA Building - 1040 Multipurpose Room
CONTACT:
END:VEVENT
END:VCALENDAR