BEGIN:VCALENDAR
VERSION:2.0
PRODID:-//UM//UM*Events//EN
CALSCALE:GREGORIAN
BEGIN:VTIMEZONE
TZID:America/Detroit
TZURL:http://tzurl.org/zoneinfo/America/Detroit
X-LIC-LOCATION:America/Detroit
BEGIN:DAYLIGHT
TZOFFSETFROM:-0500
TZOFFSETTO:-0400
TZNAME:EDT
DTSTART:20070311T020000
RRULE:FREQ=YEARLY;BYMONTH=3;BYDAY=2SU
END:DAYLIGHT
BEGIN:STANDARD
TZOFFSETFROM:-0400
TZOFFSETTO:-0500
TZNAME:EST
DTSTART:20071104T020000
RRULE:FREQ=YEARLY;BYMONTH=11;BYDAY=1SU
END:STANDARD
END:VTIMEZONE
BEGIN:VEVENT
DTSTAMP:20260421T112033
DTSTART;TZID=America/Detroit:20260429T140000
DTEND;TZID=America/Detroit:20260429T150000
SUMMARY:Workshop / Seminar:ONSF: End of Semester Info Sessions Day!
DESCRIPTION:Before you head off for summer\, join ONSF for our end-of-semester info sessions day to learn about applying for:UK Scholarships: If you're going to be a senior or alum in Fall 2026 and are interested in fully-funded graduate education opportunities in the UK\, these scholarships are for you. The Rhodes and Marshall Scholarships are due on August 23rd\, and there are several other scholarships you can learn about in this session.Truman Scholarship: $30\,000 scholarship for juniors interested in public service\, which you can put towards graduate school and professional development opportunities. Due November 29th!STEM Research Career Award: Open to sophomores and juniors planning to pursue STEM research careers. When you apply for the STEM RCA\, you'll also automatically be considered for the prestigious national Goldwater and Astronaut Scholarships if you are eligible. Due January 10th!You'll want to think about these opportunities over the summer so you'll be prepared for the application deadlines in Fall!
UID:147559-21901265@events.umich.edu
URL:https://events.umich.edu/event/147559
CLASS:PUBLIC
STATUS:CONFIRMED
CATEGORIES:Sessions
LOCATION:Virtual
CONTACT:
END:VEVENT
END:VCALENDAR