BEGIN:VCALENDAR
VERSION:2.0
PRODID:-//UM//UM*Events//EN
CALSCALE:GREGORIAN
BEGIN:VTIMEZONE
TZID:America/Detroit
TZURL:http://tzurl.org/zoneinfo/America/Detroit
X-LIC-LOCATION:America/Detroit
BEGIN:DAYLIGHT
TZOFFSETFROM:-0500
TZOFFSETTO:-0400
TZNAME:EDT
DTSTART:20070311T020000
RRULE:FREQ=YEARLY;BYMONTH=3;BYDAY=2SU
END:DAYLIGHT
BEGIN:STANDARD
TZOFFSETFROM:-0400
TZOFFSETTO:-0500
TZNAME:EST
DTSTART:20071104T020000
RRULE:FREQ=YEARLY;BYMONTH=11;BYDAY=1SU
END:STANDARD
END:VTIMEZONE
BEGIN:VEVENT
DTSTAMP:20260421T062036
DTSTART;TZID=America/Detroit:20260518T080000
DTEND;TZID=America/Detroit:20260518T123000
SUMMARY:Workshop / Seminar:2026 Global Health Summer Institute
DESCRIPTION:Join us for the 2026 Global Health Summer Institute\, a virtual conference themed Global Health\, Local Impact: Advancing Environmental Justice Worldwide on 18 and 19 May\, 2026\, from 8 A.M. to 12:30 P.M. U.S. Eastern TimeThis year's co-sponsors and co-organizers are the University of Michigan School of Nursing\, University of Michigan School of Social Work\, University of Michigan School of Public Health\, University of Michigan School of Dentistry\, Center for Global Health Equity\, and the University of Michigan.
UID:147592-21901313@events.umich.edu
URL:https://events.umich.edu/event/147592
CLASS:PUBLIC
STATUS:CONFIRMED
CATEGORIES:Sessions
LOCATION:Virtual
CONTACT:
END:VEVENT
END:VCALENDAR