BEGIN:VCALENDAR
VERSION:2.0
PRODID:-//UM//UM*Events//EN
CALSCALE:GREGORIAN
BEGIN:VTIMEZONE
TZID:America/Detroit
TZURL:http://tzurl.org/zoneinfo/America/Detroit
X-LIC-LOCATION:America/Detroit
BEGIN:DAYLIGHT
TZOFFSETFROM:-0500
TZOFFSETTO:-0400
TZNAME:EDT
DTSTART:20070311T020000
RRULE:FREQ=YEARLY;BYMONTH=3;BYDAY=2SU
END:DAYLIGHT
BEGIN:STANDARD
TZOFFSETFROM:-0400
TZOFFSETTO:-0500
TZNAME:EST
DTSTART:20071104T020000
RRULE:FREQ=YEARLY;BYMONTH=11;BYDAY=1SU
END:STANDARD
END:VTIMEZONE
BEGIN:VEVENT
DTSTAMP:20260413T160327
DTSTART;TZID=America/Detroit:20260505T190000
DTEND;TZID=America/Detroit:20260505T203000
SUMMARY:Livestream / Virtual:Mind Matters: AI and Mental Health Risks
DESCRIPTION:From schools and workplaces to the phones in our pockets\, AI tools are everywhere. As more people use generative AI tools like ChatGPT\, Claude\, and others in their daily lives\, concerns are rising among mental health and technology researchers about how these tools can affect the way we think and feel—not necessarily for the better. \n\nJoin us as experts from the University of Michigan Department of Psychiatry and School of Information discuss the risks of using AI tools and chatbots when it comes to our mental health and wellbeing. They will break down how this technology can negatively impact our mental health\, what mental health workers are seeing with their patients in the real world\, and what we can all do to keep ourselves and our loved ones safe. By avoiding the pitfalls of these technologies\, we can prevent these tools from hijacking our attention in unproductive ways that hold us back from living our lives fully.\n\nThis event is brought to you in partnership with the Alumni Association of the University of Michigan.\n\nWebinar on May 5\, 7:00pm - 8:30pm\nRegister here: https://umich.zoom.us/webinar/register/WN_sYcOP0pkTz-kK99SnYbnEw#/registration\n\nSpeakers:\n1. Steve Taylor\, M.D.\, Professor of Psychiatry and Chair of the Department of Psychiatry\n2. Mallory Klaunig\, Ph.D.\, Clinical Assistant Professor of Psychiatry\n3. Kentaro Toyama\, Ph.D.\, Professor of Information\, School of Information\n\nModerator:\nKara Gavin
UID:147677-21901563@events.umich.edu
URL:https://events.umich.edu/event/147677
CLASS:PUBLIC
STATUS:CONFIRMED
CATEGORIES:Depression,Health,Health & Wellness,Medicine,Mental Health,Mental Health Awareness Month,Neuroscience,Psychiatry,Psychology,Virtual,Well-being,Wellness
LOCATION:
CONTACT:
END:VEVENT
END:VCALENDAR