BEGIN:VCALENDAR
VERSION:2.0
PRODID:-//UM//UM*Events//EN
CALSCALE:GREGORIAN
BEGIN:VTIMEZONE
TZID:America/Detroit
TZURL:http://tzurl.org/zoneinfo/America/Detroit
X-LIC-LOCATION:America/Detroit
BEGIN:DAYLIGHT
TZOFFSETFROM:-0500
TZOFFSETTO:-0400
TZNAME:EDT
DTSTART:20070311T020000
RRULE:FREQ=YEARLY;BYMONTH=3;BYDAY=2SU
END:DAYLIGHT
BEGIN:STANDARD
TZOFFSETFROM:-0400
TZOFFSETTO:-0500
TZNAME:EST
DTSTART:20071104T020000
RRULE:FREQ=YEARLY;BYMONTH=11;BYDAY=1SU
END:STANDARD
END:VTIMEZONE
BEGIN:VEVENT
DTSTAMP:20260415T170434
DTSTART;TZID=America/Detroit:20260521T190000
DTEND;TZID=America/Detroit:20260521T203000
SUMMARY:Livestream / Virtual:Mind Matters: When Kids Struggle - What Grownups Can Do to Help
DESCRIPTION:Mental health experts from the Michigan Medicine Department of Psychiatry are hosting this practical webinar for parents\, family members\, and caregivers who want to better understand what it looks like when the kids in their lives are struggling and what they can do to help.\n\nYou’ll learn common signs of distress in youth\, how those concerns can present differently at different ages\, and how to respond in supportive and effective ways. You’ll learn tips for handling a mental health crisis\, including how to navigate the mental healthcare system. This webinar will share family-centered strategies for building resilience and community to support your child’s health—and your own—in the long term. \n\nThis event is brought to you in partnership with the Alumni Association of the University of Michigan.\n\nWebinar on May 21\, 7:00pm - 8:30pm\nRegister here: https://umich.zoom.us/webinar/register/WN_6KQrQ7uVQfyIkuBFWFsf0A#/registration\n\nSpeakers: \n1. Jessica M. Pierce\, MD\, MSc\n2. Nicole Figueroa\, MSN\, DNP\n3. Emma Share\, MSW\n\nModerator: \nSyma Khan\, MSW
UID:147680-21901566@events.umich.edu
URL:https://events.umich.edu/event/147680
CLASS:PUBLIC
STATUS:CONFIRMED
CATEGORIES:Children,Depression,Family,Free,Health,Health & Wellness,Livestream,Medicine,Mental Health,Mental Health Awareness Month,Mindfulness,Neuroscience,Psychiatry,Virtual,Well-being,Wellness
LOCATION:Off Campus Location - https://umich.zoom.us/webinar/register/WN_6KQrQ7uVQfyIkuBFWFsf0A#/registration
CONTACT:
END:VEVENT
END:VCALENDAR