BEGIN:VCALENDAR
VERSION:2.0
PRODID:-//UM//UM*Events//EN
CALSCALE:GREGORIAN
BEGIN:VTIMEZONE
TZID:America/Detroit
TZURL:http://tzurl.org/zoneinfo/America/Detroit
X-LIC-LOCATION:America/Detroit
BEGIN:DAYLIGHT
TZOFFSETFROM:-0500
TZOFFSETTO:-0400
TZNAME:EDT
DTSTART:20070311T020000
RRULE:FREQ=YEARLY;BYMONTH=3;BYDAY=2SU
END:DAYLIGHT
BEGIN:STANDARD
TZOFFSETFROM:-0400
TZOFFSETTO:-0500
TZNAME:EST
DTSTART:20071104T020000
RRULE:FREQ=YEARLY;BYMONTH=11;BYDAY=1SU
END:STANDARD
END:VTIMEZONE
BEGIN:VEVENT
DTSTAMP:20260419T152043
DTSTART;TZID=America/Detroit:20260602T100000
DTEND;TZID=America/Detroit:20260602T110000
SUMMARY:Workshop / Seminar:Summer 2026 Workshop Series
DESCRIPTION:Join CAEN for a series of workshops designed to transform how you research\, teach\, and work using the University of Michigan’s secure GenAI services. Whether you are a beginner or looking to master \"Context Engineering\,\" these sessions provide the frameworks and hands-on experience needed to lead in the age of AI. These workshops are open to the campus community.  Secure & Private: All workshops utilize U-M’s GenAI services\, ensuring your prompts and data are never used to train external models.
UID:147694-21901613@events.umich.edu
URL:https://events.umich.edu/event/147694
CLASS:PUBLIC
STATUS:CONFIRMED
CATEGORIES:Sessions
LOCATION:
CONTACT:
END:VEVENT
END:VCALENDAR