BEGIN:VCALENDAR
VERSION:2.0
PRODID:-//UM//UM*Events//EN
CALSCALE:GREGORIAN
BEGIN:VTIMEZONE
TZID:America/Detroit
TZURL:http://tzurl.org/zoneinfo/America/Detroit
X-LIC-LOCATION:America/Detroit
BEGIN:DAYLIGHT
TZOFFSETFROM:-0500
TZOFFSETTO:-0400
TZNAME:EDT
DTSTART:20070311T020000
RRULE:FREQ=YEARLY;BYMONTH=3;BYDAY=2SU
END:DAYLIGHT
BEGIN:STANDARD
TZOFFSETFROM:-0400
TZOFFSETTO:-0500
TZNAME:EST
DTSTART:20071104T020000
RRULE:FREQ=YEARLY;BYMONTH=11;BYDAY=1SU
END:STANDARD
END:VTIMEZONE
BEGIN:VEVENT
DTSTAMP:20260415T121611
DTSTART;TZID=America/Detroit:20260509T190000
DTEND;TZID=America/Detroit:20260509T203000
SUMMARY:Performance:The Women Who Move Us: Honoring the Inspiring Women Who Helped to Define Us
DESCRIPTION:*The Women Who Move Us* builds on the success of *Women Defining Themselves* (May 2024)\, continuing a powerful exploration of how movement and music illuminate the stories that shape us. This evening’s performance honors the inspiring women who have carried us\, guided us\, and left lasting impressions on our lives\, including mothers\, mentors\, daughters\, and friends. \n\nThrough original choreography and soulful music\, we celebrate the resilience\, wisdom\, and beauty of these women while deepening our understanding of the arts’ capacity to heal\, connect\, and inspire across generations. Reception to follow.\n\nAll proceeds from the evening will support the Scott Pranger ALS Center at Michigan Medicine\, advancing research for neurodegenerative diseases.\n\nAbout Dance/Wellness faculty member Amy West’s mission:\n\n\"This project is grounded in lived experience. For seven years\, my husband and I\, along with help from caregivers\, cared for my mother-in-law in our home as she slowly succumbed to dementia. Walking beside her during this time profoundly shaped my understanding of health\, caregiving\, and resilience\, and reinforced the importance of connection across all stages of life. *The Women Who Move Us* is both a tribute to her memory and a collective gesture of love and advocacy for all families and caregivers navigating memory loss. It also reflects my commitment to honoring the legacies of the women who came before us while supporting the health and well-being of those who carry them forward. The project will extend its reach through collaboration with the Scott Pranger ALS Center at Michigan Medicine\, linking the performing arts with medical research and care. By bringing together performance and science\, this partnership reflects the shared humanity at the core of both disciplines: the desire to honor\, heal\, and sustain life.\"  
UID:147745-21901921@events.umich.edu
URL:https://events.umich.edu/event/147745
CLASS:PUBLIC
STATUS:CONFIRMED
CATEGORIES:Dance,Faculty,Free,Interdisciplinary,Music,North Campus,Research,Social Impact
LOCATION:Dance Building - Dance Performance Studio Theatre
CONTACT:
END:VEVENT
END:VCALENDAR