BEGIN:VCALENDAR
VERSION:2.0
PRODID:-//UM//UM*Events//EN
CALSCALE:GREGORIAN
BEGIN:VTIMEZONE
TZID:America/Detroit
TZURL:http://tzurl.org/zoneinfo/America/Detroit
X-LIC-LOCATION:America/Detroit
BEGIN:DAYLIGHT
TZOFFSETFROM:-0500
TZOFFSETTO:-0400
TZNAME:EDT
DTSTART:20070311T020000
RRULE:FREQ=YEARLY;BYMONTH=3;BYDAY=2SU
END:DAYLIGHT
BEGIN:STANDARD
TZOFFSETFROM:-0400
TZOFFSETTO:-0500
TZNAME:EST
DTSTART:20071104T020000
RRULE:FREQ=YEARLY;BYMONTH=11;BYDAY=1SU
END:STANDARD
END:VTIMEZONE
BEGIN:VEVENT
DTSTAMP:20260421T052035
DTSTART;TZID=America/Detroit:20260506T090000
DTEND;TZID=America/Detroit:20260506T100000
SUMMARY:Workshop / Seminar:OGPS Science Writing and Communication Spring 2026
DESCRIPTION:\n                            \n            This series of workshops aims to equip you with practical\n skills and knowledge for writing science with confidence as part of \nyour training (MS\, PhD\, or postdoc). You will have a chance to learn \nbest practices and strategies necessary to best prepare your manuscript\,\n or your grant/fellowship application. Each workshop will provide \nopportunities to engage and learn how to develop your writing and \npresentation skills.Aims & Objectives:Boost your confidence and productivity in your writing skills.Provide guidance on how and when to best use Gen-AI in the writing process.Learn\n the fundamentals of science manuscript writing by exploring best \npractices in outlining your work and results for your next manuscript.Discuss\n effective presentation practices and strategies to improve how our \nscience is presented\, ensuring clarity and audience engagement.\n        \n    \n            
UID:147752-21901929@events.umich.edu
URL:https://events.umich.edu/event/147752
CLASS:PUBLIC
STATUS:CONFIRMED
CATEGORIES:Sessions
LOCATION:Virtual
CONTACT:
END:VEVENT
END:VCALENDAR