BEGIN:VCALENDAR
VERSION:2.0
PRODID:-//UM//UM*Events//EN
CALSCALE:GREGORIAN
BEGIN:VTIMEZONE
TZID:America/Detroit
TZURL:http://tzurl.org/zoneinfo/America/Detroit
X-LIC-LOCATION:America/Detroit
BEGIN:DAYLIGHT
TZOFFSETFROM:-0500
TZOFFSETTO:-0400
TZNAME:EDT
DTSTART:20070311T020000
RRULE:FREQ=YEARLY;BYMONTH=3;BYDAY=2SU
END:DAYLIGHT
BEGIN:STANDARD
TZOFFSETFROM:-0400
TZOFFSETTO:-0500
TZNAME:EST
DTSTART:20071104T020000
RRULE:FREQ=YEARLY;BYMONTH=11;BYDAY=1SU
END:STANDARD
END:VTIMEZONE
BEGIN:VEVENT
DTSTAMP:20260417T100538
DTSTART;TZID=America/Detroit:20260422T120000
DTEND;TZID=America/Detroit:20260422T160000
SUMMARY:Social / Informal Gathering:Denim Day!
DESCRIPTION:The Sexual Assault Prevention & Awareness Center (SAPAC) Graduate Research\, Outreach\, Workshops\, and Evaluation (GROWE) program\, with support from the School of Social Work FLOURISH Office\, invite you to join us for a Denim Day awareness event! \n\nDenim Day is an annual day of awareness in April where we wear denim to stand in solidarity with survivors of sexual violence and to spread awareness. Join us on Wednesday\, April 22\, anytime between 12-4 pm in the School of Social Work Courtyard for an afternoon of creativity\, conversation\, and impact. This is a drop-in event\, so feel free to come and go as you please! \n\nThis will be a relaxed event where you'll have the opportunity to:\n- Decorate denim squares\n- Engage in arts and crafts activities\n- Help to create survivor self-care kits\n\nWe will be collecting donation items to support Safehouse\, and you can access their wishlist as well as other ways to give here: https://tinyurl.com/Denim-Day-Wishlist-2026.\n\nSnacks and refreshments will be provided. We hope to see you there!
UID:147753-21901934@events.umich.edu
URL:https://events.umich.edu/event/147753
CLASS:PUBLIC
STATUS:CONFIRMED
CATEGORIES:Advocacy,art,free,sapac,Sexual Assault Awareness Month
LOCATION:School of Social Work Building - Courtyard
CONTACT:
END:VEVENT
END:VCALENDAR