BEGIN:VCALENDAR
VERSION:2.0
PRODID:-//UM//UM*Events//EN
CALSCALE:GREGORIAN
BEGIN:VTIMEZONE
TZID:America/Detroit
TZURL:http://tzurl.org/zoneinfo/America/Detroit
X-LIC-LOCATION:America/Detroit
BEGIN:DAYLIGHT
TZOFFSETFROM:-0500
TZOFFSETTO:-0400
TZNAME:EDT
DTSTART:20070311T020000
RRULE:FREQ=YEARLY;BYMONTH=3;BYDAY=2SU
END:DAYLIGHT
BEGIN:STANDARD
TZOFFSETFROM:-0400
TZOFFSETTO:-0500
TZNAME:EST
DTSTART:20071104T020000
RRULE:FREQ=YEARLY;BYMONTH=11;BYDAY=1SU
END:STANDARD
END:VTIMEZONE
BEGIN:VEVENT
DTSTAMP:20260415T120607
DTSTART;TZID=America/Detroit:20260503T090000
DTEND;TZID=America/Detroit:20260503T130000
SUMMARY:Social / Informal Gathering:Breakthrough T1D Walk
DESCRIPTION:Join the Caswell Diabetes Institute (CDI) team as we walk to raise awareness for type 1 diabetes! Register or make a donation using the link below.\n\nThis annual walk is the largest global event for the type 1 diabetes (T1D) community\, driving research\, advocacy\, and support to improve lives while funding cures research.\nJust a little effort can make a big impact. \n\nAs a bonus\, those who join the team and raise $50 will receive a CDI drawstring backpack.\n\nWalk\, Give or Share! Join us on Sunday\, May 3.
UID:147755-21901937@events.umich.edu
URL:https://events.umich.edu/event/147755
CLASS:PUBLIC
STATUS:CONFIRMED
CATEGORIES:In Person,Networking,Public Health,Virtual
LOCATION:Off Campus Location
CONTACT:
END:VEVENT
END:VCALENDAR