BEGIN:VCALENDAR
VERSION:2.0
PRODID:-//UM//UM*Events//EN
CALSCALE:GREGORIAN
BEGIN:VTIMEZONE
TZID:America/Detroit
TZURL:http://tzurl.org/zoneinfo/America/Detroit
X-LIC-LOCATION:America/Detroit
BEGIN:DAYLIGHT
TZOFFSETFROM:-0500
TZOFFSETTO:-0400
TZNAME:EDT
DTSTART:20070311T020000
RRULE:FREQ=YEARLY;BYMONTH=3;BYDAY=2SU
END:DAYLIGHT
BEGIN:STANDARD
TZOFFSETFROM:-0400
TZOFFSETTO:-0500
TZNAME:EST
DTSTART:20071104T020000
RRULE:FREQ=YEARLY;BYMONTH=11;BYDAY=1SU
END:STANDARD
END:VTIMEZONE
BEGIN:VEVENT
DTSTAMP:20260415T153418
DTSTART;TZID=America/Detroit:20260613T063000
DTEND;TZID=America/Detroit:20260613T113000
SUMMARY:Other:2026 ADA Tour de Cure: Michigan
DESCRIPTION:Join the UM Caswell Diabetes Institute Team at the 2026 ADA Tour de Cure: Michigan and help us fight to end diabetes\, one mile at a time.\n\nTour de Cure is a powerful moment for corporations\, organizations\, and individuals to come together and show our community how much we care and how committed we are to ending diabetes for good.\n\nBy joining this fundraising event\, you’ll help raise awareness\, support vital programs\, fuel lifesaving research\, and move us closer to a cure.\n\nParticipate in person or virtually. Invite your family and friends.The next ride is on June 13\, 2026. Let's make it a huge success!
UID:147756-21901952@events.umich.edu
URL:https://events.umich.edu/event/147756
CLASS:PUBLIC
STATUS:CONFIRMED
CATEGORIES:In Person,Networking,Outdoors,Virtual,Volunteer,Well-being
LOCATION:Off Campus Location
CONTACT:
END:VEVENT
END:VCALENDAR