BEGIN:VCALENDAR
VERSION:2.0
PRODID:-//UM//UM*Events//EN
CALSCALE:GREGORIAN
BEGIN:VTIMEZONE
TZID:America/Detroit
TZURL:http://tzurl.org/zoneinfo/America/Detroit
X-LIC-LOCATION:America/Detroit
BEGIN:DAYLIGHT
TZOFFSETFROM:-0500
TZOFFSETTO:-0400
TZNAME:EDT
DTSTART:20070311T020000
RRULE:FREQ=YEARLY;BYMONTH=3;BYDAY=2SU
END:DAYLIGHT
BEGIN:STANDARD
TZOFFSETFROM:-0400
TZOFFSETTO:-0500
TZNAME:EST
DTSTART:20071104T020000
RRULE:FREQ=YEARLY;BYMONTH=11;BYDAY=1SU
END:STANDARD
END:VTIMEZONE
BEGIN:VEVENT
DTSTAMP:20260415T122740
DTSTART;TZID=America/Detroit:20260511T100000
DTEND;TZID=America/Detroit:20260511T120000
SUMMARY:Workshop / Seminar:Using CRLT’s 5 Element Framework to Support Student Learning and Wellbeing
DESCRIPTION:In this session\, we will explore strategies for supporting student wellbeing in our courses using CRLT’s ‘5 Element Framework’ and other relevant research.  We will think together about how your teaching choices can support student learning and student mental health or wellbeing. And\, engage in critical discussion with session participants about ways to apply relevant research\, appropriate to teaching roles\, to our course design\, including course policies\, assignments\, and communication with students.
UID:147757-21901939@events.umich.edu
URL:https://events.umich.edu/event/147757
CLASS:PUBLIC
STATUS:CONFIRMED
CATEGORIES:Family,Graduate Students,In Person,Workshop
LOCATION:Palmer Commons - CRLT Seminar Room (1013 Palmer Commons, 1st Floor)
CONTACT:
END:VEVENT
END:VCALENDAR