BEGIN:VCALENDAR
VERSION:2.0
PRODID:-//UM//UM*Events//EN
CALSCALE:GREGORIAN
BEGIN:VTIMEZONE
TZID:America/Detroit
TZURL:http://tzurl.org/zoneinfo/America/Detroit
X-LIC-LOCATION:America/Detroit
BEGIN:DAYLIGHT
TZOFFSETFROM:-0500
TZOFFSETTO:-0400
TZNAME:EDT
DTSTART:20070311T020000
RRULE:FREQ=YEARLY;BYMONTH=3;BYDAY=2SU
END:DAYLIGHT
BEGIN:STANDARD
TZOFFSETFROM:-0400
TZOFFSETTO:-0500
TZNAME:EST
DTSTART:20071104T020000
RRULE:FREQ=YEARLY;BYMONTH=11;BYDAY=1SU
END:STANDARD
END:VTIMEZONE
BEGIN:VEVENT
DTSTAMP:20260415T123120
DTSTART;TZID=America/Detroit:20260511T130000
DTEND;TZID=America/Detroit:20260511T143000
SUMMARY:Workshop / Seminar:Designing Classroom Activities for Accessibility
DESCRIPTION:Active learning can make teaching more engaging\, provide immediate feedback on student learning\, and give students valuable opportunities to practice the skills they need to be successful. Learning experiences designed without a central consideration of accessibility\, however\, may lead to inequitable outcomes for students with disabilities. In this in-person workshop\, participants will: explore one approach (Universal Design for Learning) to promote teaching for accessibility\; practice identifying barriers to participation in order to design activities around accessibility\; and share and create ideas for how to accessibly implement different active learning opportunities. This seminar is for folks already comfortable with designing and implementing in-class activities (active learning) who want to develop a practice of reflecting and improving on these activities to provide more equitable access to students with disabilities.
UID:147758-21901940@events.umich.edu
URL:https://events.umich.edu/event/147758
CLASS:PUBLIC
STATUS:CONFIRMED
CATEGORIES:Faculty,Graduate Students,In Person,Workshop
LOCATION:Palmer Commons - CRLT Seminar Room (1013 Palmer Commons, 1st Floor)
CONTACT:
END:VEVENT
END:VCALENDAR