BEGIN:VCALENDAR
VERSION:2.0
PRODID:-//UM//UM*Events//EN
CALSCALE:GREGORIAN
BEGIN:VTIMEZONE
TZID:America/Detroit
TZURL:http://tzurl.org/zoneinfo/America/Detroit
X-LIC-LOCATION:America/Detroit
BEGIN:DAYLIGHT
TZOFFSETFROM:-0500
TZOFFSETTO:-0400
TZNAME:EDT
DTSTART:20070311T020000
RRULE:FREQ=YEARLY;BYMONTH=3;BYDAY=2SU
END:DAYLIGHT
BEGIN:STANDARD
TZOFFSETFROM:-0400
TZOFFSETTO:-0500
TZNAME:EST
DTSTART:20071104T020000
RRULE:FREQ=YEARLY;BYMONTH=11;BYDAY=1SU
END:STANDARD
END:VTIMEZONE
BEGIN:VEVENT
DTSTAMP:20260415T124051
DTSTART;TZID=America/Detroit:20260514T130000
DTEND;TZID=America/Detroit:20260514T150000
SUMMARY:Workshop / Seminar:Math Accessibility: Best Practices and workflows for instructors
DESCRIPTION:What does it mean for math to be accessible? How do I make math content that meets accessibility standards? This workshop session covers the key takeaways that instructors need to know. Participants will learn about the impact of accessibility in math and STEM courses\, the workflows to create accessible math content\, and how to get more information and support in the future. This session will highlight newly updated guidance available at U-M\, so instructors know where to find the latest information about math accessibility. Experts will support participants as they try out workflows\, set up their tools\, and ask questions relevant to their teaching contexts.
UID:147764-21901946@events.umich.edu
URL:https://events.umich.edu/event/147764
CLASS:PUBLIC
STATUS:CONFIRMED
CATEGORIES:Center For Research On Learning And Teaching,Faculty,Graduate Students,gsi,In Person,Mathematics,Workshop
LOCATION:Palmer Commons - CRLT Seminar Room (1013 Palmer Commons, 1st Floor)
CONTACT:
END:VEVENT
END:VCALENDAR