BEGIN:VCALENDAR
VERSION:2.0
PRODID:-//UM//UM*Events//EN
CALSCALE:GREGORIAN
BEGIN:VTIMEZONE
TZID:America/Detroit
TZURL:http://tzurl.org/zoneinfo/America/Detroit
X-LIC-LOCATION:America/Detroit
BEGIN:DAYLIGHT
TZOFFSETFROM:-0500
TZOFFSETTO:-0400
TZNAME:EDT
DTSTART:20070311T020000
RRULE:FREQ=YEARLY;BYMONTH=3;BYDAY=2SU
END:DAYLIGHT
BEGIN:STANDARD
TZOFFSETFROM:-0400
TZOFFSETTO:-0500
TZNAME:EST
DTSTART:20071104T020000
RRULE:FREQ=YEARLY;BYMONTH=11;BYDAY=1SU
END:STANDARD
END:VTIMEZONE
BEGIN:VEVENT
DTSTAMP:20260415T152020
DTSTART;TZID=America/Detroit:20260427T120000
DTEND;TZID=America/Detroit:20260427T130000
SUMMARY:Workshop / Seminar:Caswell Diabetes Institute Seminar Series
DESCRIPTION:The CDI Seminar Series seeks to address the broad interests in diabetes-\, obesity-\, metabolism-\, nutrition-\, and complications-related research and care across UM and the world.\n\nJoin us for \"Decoding Developments to Build Human Organoids\".\n\nJason Spence\, PhD\nH. Marvin Pollard Collegiate Professor\nProfessor of Gastroenterology\,\nBiomedical Engineering\n\nLunch provided.
UID:147772-21901958@events.umich.edu
URL:https://events.umich.edu/event/147772
CLASS:PUBLIC
STATUS:CONFIRMED
CATEGORIES:Basic Science,Biology,biomedical,biomedical research,Biosciences,Faculty,Free,Graduate and Professional Students,In Person,North campus,Postdoctoral Research Fellows,Research,Science,seminar,Virtual
LOCATION:North Campus Research Complex Building 10 - South Atrium
CONTACT:
END:VEVENT
END:VCALENDAR