BEGIN:VCALENDAR
VERSION:2.0
PRODID:-//UM//UM*Events//EN
CALSCALE:GREGORIAN
BEGIN:VTIMEZONE
TZID:America/Detroit
TZURL:http://tzurl.org/zoneinfo/America/Detroit
X-LIC-LOCATION:America/Detroit
BEGIN:DAYLIGHT
TZOFFSETFROM:-0500
TZOFFSETTO:-0400
TZNAME:EDT
DTSTART:20070311T020000
RRULE:FREQ=YEARLY;BYMONTH=3;BYDAY=2SU
END:DAYLIGHT
BEGIN:STANDARD
TZOFFSETFROM:-0400
TZOFFSETTO:-0500
TZNAME:EST
DTSTART:20071104T020000
RRULE:FREQ=YEARLY;BYMONTH=11;BYDAY=1SU
END:STANDARD
END:VTIMEZONE
BEGIN:VEVENT
DTSTAMP:20260415T153143
DTSTART;TZID=America/Detroit:20261028T073000
DTEND;TZID=America/Detroit:20261028T170000
SUMMARY:Conference / Symposium:2026 Caswell Diabetes Institute Metabolism\, Obesity\, Nutrition\, and Diabetes Symposium
DESCRIPTION:The Caswell Diabetes Institute Metabolism\, Obesity\, Nutrition\, and Diabetes Symposium is an annual one-day event showcasing the research of early-stage investigators and innovative new research by CDI\, MCDTR\, MDRC\, and MNORC members from across UM’s schools and departments. Additionally\, the symposium features keynote talks from leading researchers and practitioners external to UM\, a poster-session\, and a data blitz.\n\nStay tuned for more exciting details in the year ahead!\n\nSponsored by: The Caswell Diabetes Institute (CDI)\, Michigan Center for Diabetes Translational Research (MCDTR)\, Michigan Diabetes Research Center (MDRC)\, and Michigan Nutrition Obesity Research Center (MNORC).
UID:147778-21901961@events.umich.edu
URL:https://events.umich.edu/event/147778
CLASS:PUBLIC
STATUS:CONFIRMED
CATEGORIES:Basic Science,Biology,biomedical,biomedical research,Biosciences,conference,Faculty,Free,Graduate and Professional Students,Graduate Students,In Person,North campus,Postdoctoral Research Fellows,Public Health,Research,Science,symposium
LOCATION:
CONTACT:
END:VEVENT
END:VCALENDAR