BEGIN:VCALENDAR
VERSION:2.0
PRODID:-//UM//UM*Events//EN
CALSCALE:GREGORIAN
BEGIN:VTIMEZONE
TZID:America/Detroit
TZURL:http://tzurl.org/zoneinfo/America/Detroit
X-LIC-LOCATION:America/Detroit
BEGIN:DAYLIGHT
TZOFFSETFROM:-0500
TZOFFSETTO:-0400
TZNAME:EDT
DTSTART:20070311T020000
RRULE:FREQ=YEARLY;BYMONTH=3;BYDAY=2SU
END:DAYLIGHT
BEGIN:STANDARD
TZOFFSETFROM:-0400
TZOFFSETTO:-0500
TZNAME:EST
DTSTART:20071104T020000
RRULE:FREQ=YEARLY;BYMONTH=11;BYDAY=1SU
END:STANDARD
END:VTIMEZONE
BEGIN:VEVENT
DTSTAMP:20260420T180035
DTSTART;TZID=America/Detroit:20260422T190000
DTEND;TZID=America/Detroit:20260422T200000
SUMMARY:Ceremony / Service:Auxiliary University Program Chartering Ceremony
DESCRIPTION:You are invited to attend the chartering ceremony of the University of Michigan unit of the United States Coast Guard Auxiliary University Program (AUP)\, marking the official establishment of the unit. The AUP curriculum is designed to cultivate students’ professional\, operational\, and leadership skills for careers in public service\, with particular emphasis on service in the Auxiliary\, commissioning into active duty or reserve service\, and maritime professions.\n \nImportant parking instructions for non-UM visitors:\nAllow extra time for parking. Metered street parking is available along East Washington Street directly in front of the building. However\, parking can be difficult. If all metered street parking is full\, the closest public parking lot is the City of Ann Arbor Maynard Parking Structure\, four blocks away at 324 Maynard St.\, Ann Arbor\, MI 48109 (Directions). The height restriction on this garage is 6’8” – some SUVs and pickups with roof racks will not fit in this garage.
UID:147790-21901973@events.umich.edu
URL:https://events.umich.edu/event/147790
CLASS:PUBLIC
STATUS:CONFIRMED
CATEGORIES:
LOCATION:East Conference Room, 4th floor
CONTACT:
END:VEVENT
END:VCALENDAR