BEGIN:VCALENDAR
VERSION:2.0
PRODID:-//UM//UM*Events//EN
CALSCALE:GREGORIAN
BEGIN:VTIMEZONE
TZID:America/Detroit
TZURL:http://tzurl.org/zoneinfo/America/Detroit
X-LIC-LOCATION:America/Detroit
BEGIN:DAYLIGHT
TZOFFSETFROM:-0500
TZOFFSETTO:-0400
TZNAME:EDT
DTSTART:20070311T020000
RRULE:FREQ=YEARLY;BYMONTH=3;BYDAY=2SU
END:DAYLIGHT
BEGIN:STANDARD
TZOFFSETFROM:-0400
TZOFFSETTO:-0500
TZNAME:EST
DTSTART:20071104T020000
RRULE:FREQ=YEARLY;BYMONTH=11;BYDAY=1SU
END:STANDARD
END:VTIMEZONE
BEGIN:VEVENT
DTSTAMP:20260416T120941
DTSTART;TZID=America/Detroit:20260518T083000
DTEND;TZID=America/Detroit:20260518T100000
SUMMARY:Lecture / Discussion:Distinguished Faculty Seminar: Dr. Jacquelyn Campbell
DESCRIPTION:Join the Institute for Firearm Injury Prevention in welcoming Dr. Jacquelyn Campbell to the University of Michigan for an in-person presentation titled: Where We Need to Go: Lessons Learned About Firearms and Domestic Violence From 25 Years of Research and Talking to Abused Women. The seminar will be held from 8:30 a.m. - 10:00 a.m. in the Alexander G. Ruthven Building on U-M’s Central Campus. Registration is required.
UID:147794-21901975@events.umich.edu
URL:https://events.umich.edu/event/147794
CLASS:PUBLIC
STATUS:CONFIRMED
CATEGORIES:Community Safety,Community Violence,Firearm,Free,Graduate,Graduate Students,health,Health & Wellness,health behavior,health care equity,health care policy,health communication,Healthcare,Injury Prevention,Interdisciplinary,Medicine,Mental Health,Multidisciplinary,Nursing,Postdoctoral Research Fellows,Public Health,Public Policy,Research,Safe Storage,Social Impact,Suicide Prevention,Undergraduate,Undergraduate Students
LOCATION:Ruthven Administration Building
CONTACT:
END:VEVENT
END:VCALENDAR