BEGIN:VCALENDAR
VERSION:2.0
PRODID:-//UM//UM*Events//EN
CALSCALE:GREGORIAN
BEGIN:VTIMEZONE
TZID:America/Detroit
TZURL:http://tzurl.org/zoneinfo/America/Detroit
X-LIC-LOCATION:America/Detroit
BEGIN:DAYLIGHT
TZOFFSETFROM:-0500
TZOFFSETTO:-0400
TZNAME:EDT
DTSTART:20070311T020000
RRULE:FREQ=YEARLY;BYMONTH=3;BYDAY=2SU
END:DAYLIGHT
BEGIN:STANDARD
TZOFFSETFROM:-0400
TZOFFSETTO:-0500
TZNAME:EST
DTSTART:20071104T020000
RRULE:FREQ=YEARLY;BYMONTH=11;BYDAY=1SU
END:STANDARD
END:VTIMEZONE
BEGIN:VEVENT
DTSTAMP:20260421T063204
DTSTART;TZID=America/Detroit:20260519T123000
DTEND;TZID=America/Detroit:20260519T133000
SUMMARY:Careers / Jobs:Articulating and Leveraging Your Transferable Skills (for GraduateStudents)
DESCRIPTION:This workshop will explore the many transferable skills youhave gained during graduate school and how to translate these skills to the non-academic job market. We’ll review transferable skills employers value (e.g.\, collaboration\, critical thinking\, project management) and discuss the types of graduate school experiences where you may have honed these skills. You will have time to reflect on your unique experiences and articulate the transferable skills gained from them. To get the most out of the session\, please review this worksheet and come prepared with questions and/or experiences to share. This event is intended to be interactive and therefore a recording will not be available.Brought to you by the University Career Center\, in partnership with Rackham Graduate School.This event's information is shown in Handshake as well as on the Happening @ Michigan calendar so that it will be seen by a larger numberof U-M Students. You can only register to attend this event within Handshake. If you'd like to indicate that you'll be attending this event and seemore details\, please go to this webpage: https://umich.joinhandshake.com/events/1945046/share_preview  Wewant to ensure full and equitable participation in our events. If an accessibility accommodation would promote your full participation in this event\, please indicate your accommodation requirements via the link below\, preferably at least 14 days prior to the program to ensure sufficient time for arranging your requested accommodation(s) or exploring suitable alternatives. If you have any questions regarding access to our programs\, please don't hesitate to reach out to Cierra Sutherland at cierrasu@umich.edu. Accessibility accommodation form: https://forms.gle/FmFn35ZLxJ8kvPfSA  #UCC
UID:147799-21901980@events.umich.edu
URL:https://events.umich.edu/event/147799
CLASS:PUBLIC
STATUS:CONFIRMED
CATEGORIES:
LOCATION:
CONTACT:
END:VEVENT
END:VCALENDAR