BEGIN:VCALENDAR
VERSION:2.0
PRODID:-//UM//UM*Events//EN
CALSCALE:GREGORIAN
BEGIN:VTIMEZONE
TZID:America/Detroit
TZURL:http://tzurl.org/zoneinfo/America/Detroit
X-LIC-LOCATION:America/Detroit
BEGIN:DAYLIGHT
TZOFFSETFROM:-0500
TZOFFSETTO:-0400
TZNAME:EDT
DTSTART:20070311T020000
RRULE:FREQ=YEARLY;BYMONTH=3;BYDAY=2SU
END:DAYLIGHT
BEGIN:STANDARD
TZOFFSETFROM:-0400
TZOFFSETTO:-0500
TZNAME:EST
DTSTART:20071104T020000
RRULE:FREQ=YEARLY;BYMONTH=11;BYDAY=1SU
END:STANDARD
END:VTIMEZONE
BEGIN:VEVENT
DTSTAMP:20260419T123205
DTSTART;TZID=America/Detroit:20260609T123000
DTEND;TZID=America/Detroit:20260609T133000
SUMMARY:Careers / Jobs:Career Exploration Resources & Strategies (for Graduate Students)
DESCRIPTION:This workshop will focus on resources you can leverage to explore career options\, as well as strategies to best position yourself for a variety of career trajectories. We will cover approaches to networking\, transferable skills\, and key resources designed to support your exploration. This workshop is open to students at all points in their graduate careers\, and there will be plenty of time for your questions. This event is intended to be interactive and therefore a recording will not be available.This workshop is designed for master's students\, doctoral students\, and postdoctoral fellows. For faculty and staff\, please contact rackhamdeworkshops@umich.edu to see if we can accommodate your attendance.Brought to you by the University Career Center\, in partnership with Rackham Graduate School.This event's information is shown in Handshake as well as on the Happening @ Michigan calendar so that itwill be seen by a larger number of U-M Students. You can only register toattend this event within Handshake. If you'd like to indicate that you'llbe attending this event and see more details\, please go to this webpage: https://umich.joinhandshake.com/events/1945069/share_preview  We want to ensure full and equitable participation in our events. If an accessibility accommodation would promote yourfull participation in this event\, please indicate your accommodation requirements via the link below\, preferably at least 14 days prior to the program to ensure sufficient time for arranging your requested accommodation(s) or exploring suitable alternatives. If you have any questions regarding access to our programs\, please don't hesitate to reach out to Cierra Sutherland at cierrasu@umich.edu. Accessibility accommodation form: https://forms.gle/FmFn35ZLxJ8kvPfSA  #UCC
UID:147802-21901983@events.umich.edu
URL:https://events.umich.edu/event/147802
CLASS:PUBLIC
STATUS:CONFIRMED
CATEGORIES:
LOCATION:
CONTACT:
END:VEVENT
END:VCALENDAR