BEGIN:VCALENDAR
VERSION:2.0
PRODID:-//UM//UM*Events//EN
CALSCALE:GREGORIAN
BEGIN:VTIMEZONE
TZID:America/Detroit
TZURL:http://tzurl.org/zoneinfo/America/Detroit
X-LIC-LOCATION:America/Detroit
BEGIN:DAYLIGHT
TZOFFSETFROM:-0500
TZOFFSETTO:-0400
TZNAME:EDT
DTSTART:20070311T020000
RRULE:FREQ=YEARLY;BYMONTH=3;BYDAY=2SU
END:DAYLIGHT
BEGIN:STANDARD
TZOFFSETFROM:-0400
TZOFFSETTO:-0500
TZNAME:EST
DTSTART:20071104T020000
RRULE:FREQ=YEARLY;BYMONTH=11;BYDAY=1SU
END:STANDARD
END:VTIMEZONE
BEGIN:VEVENT
DTSTAMP:20260419T123205
DTSTART;TZID=America/Detroit:20260622T133000
DTEND;TZID=America/Detroit:20260622T150000
SUMMARY:Careers / Jobs:Cover Letters & Resumes for Jobs and Internships (for Graduate Students)
DESCRIPTION:This workshop is open to all graduate students seeking guidance on cover letters and resumes for positions beyond tenure track roles.It also meets the needs of those applying for internships\, including those applying to the Rackham Doctoral Intern Fellowship Program. The processof synthesizing your academic experiences into strong application materials for jobs and internships beyond academia can be challenging but rewarding. This workshop is a hands-on opportunity for graduate students to learnhow to effectively develop a resume using the foundation that they have laid with information from their CVs. Additionally\, this session will include tips for writing compelling\, tailored cover letters and thinking strategically about how these two documents complement each other.This workshop is designed for master's students\, doctoral students\, and postdoctoral fellows. For faculty and staff\, please contact rackhamdeworkshops@umich.edu to see if we can accommodate your attendance.Brought to you by the University Career Center\, in partnership with Rackham Graduate School. This event's information is shown in Handshake as well as on the Happening @ Michigan calendar so that it will be seen by a larger number of U-M Students. You can only register to attend this event within Handshake. If you'd like to indicate that you'll be attending this event and see more details\, please go to this webpage: https://umich.joinhandshake.com/events/1945109/share_preview  We want to ensure full and equitable participation in our events. If an accessibility accommodation would promote your full participation in this event\, please indicate your accommodation requirements via the link below\, preferably at least 14 days prior to the program toensure sufficient time for arranging your requested accommodation(s) or exploring suitable alternatives. If you have any questions regarding accessto our programs\, please don't hesitate to reach out to Cierra Sutherlandat cierrasu@umich.edu. Accessibility accommodation form: https://forms.gle/FmFn35ZLxJ8kvPfSA  #UCC
UID:147804-21901985@events.umich.edu
URL:https://events.umich.edu/event/147804
CLASS:PUBLIC
STATUS:CONFIRMED
CATEGORIES:
LOCATION:
CONTACT:
END:VEVENT
END:VCALENDAR