BEGIN:VCALENDAR
VERSION:2.0
PRODID:-//UM//UM*Events//EN
CALSCALE:GREGORIAN
BEGIN:VTIMEZONE
TZID:America/Detroit
TZURL:http://tzurl.org/zoneinfo/America/Detroit
X-LIC-LOCATION:America/Detroit
BEGIN:DAYLIGHT
TZOFFSETFROM:-0500
TZOFFSETTO:-0400
TZNAME:EDT
DTSTART:20070311T020000
RRULE:FREQ=YEARLY;BYMONTH=3;BYDAY=2SU
END:DAYLIGHT
BEGIN:STANDARD
TZOFFSETFROM:-0400
TZOFFSETTO:-0500
TZNAME:EST
DTSTART:20071104T020000
RRULE:FREQ=YEARLY;BYMONTH=11;BYDAY=1SU
END:STANDARD
END:VTIMEZONE
BEGIN:VEVENT
DTSTAMP:20260420T183220
DTSTART;TZID=America/Detroit:20260806T110000
DTEND;TZID=America/Detroit:20260806T120000
SUMMARY:Careers / Jobs:The Dual Job Search: Coordinating Academic and Non-Academic Job Applications
DESCRIPTION:For many soon-to-graduate Ph.D. students\, coordinating a dual job search—applying both to academic and non-academic jobs—becomesa reasonable way to expand your options. In this workshop\, we will discuss concrete ways to time\, strategize\, and optimize the tandem job search\, seeking to maximize bang for your buck throughout these two intense\, labor-intensive processes.Brought to you by the University Career Center\, in partnership with Rackham Graduate School. This event's information is shown in Handshake as well as on the Happening @ Michigan calendar so that it will be seen by a larger number of U-M Students.You can only register to attend this event within Handshake. If you'd like to indicate that you'll be attending this event and see more details\, please go to this webpage: https://umich.joinhandshake.com/events/1945159/share_preview We want to ensure full and equitable participation in our events. If an accessibility accommodation would promote your full participation in this event\, please indicate your accommodation requirements via the link below\, preferably at least 14 daysprior to the program to ensure sufficient time for arranging your requested accommodation(s) or exploring suitable alternatives. If you have any questions regarding access to our programs\, please don't hesitate to reach out to Cierra Sutherland at cierrasu@umich.edu. Accessibility accommodation form: https://forms.gle/FmFn35ZLxJ8kvPfSA  #UCC
UID:147809-21901990@events.umich.edu
URL:https://events.umich.edu/event/147809
CLASS:PUBLIC
STATUS:CONFIRMED
CATEGORIES:
LOCATION:
CONTACT:
END:VEVENT
END:VCALENDAR