BEGIN:VCALENDAR
VERSION:2.0
PRODID:-//UM//UM*Events//EN
CALSCALE:GREGORIAN
BEGIN:VTIMEZONE
TZID:America/Detroit
TZURL:http://tzurl.org/zoneinfo/America/Detroit
X-LIC-LOCATION:America/Detroit
BEGIN:DAYLIGHT
TZOFFSETFROM:-0500
TZOFFSETTO:-0400
TZNAME:EDT
DTSTART:20070311T020000
RRULE:FREQ=YEARLY;BYMONTH=3;BYDAY=2SU
END:DAYLIGHT
BEGIN:STANDARD
TZOFFSETFROM:-0400
TZOFFSETTO:-0500
TZNAME:EST
DTSTART:20071104T020000
RRULE:FREQ=YEARLY;BYMONTH=11;BYDAY=1SU
END:STANDARD
END:VTIMEZONE
BEGIN:VEVENT
DTSTAMP:20260416T124600
DTSTART;TZID=America/Detroit:20260520T183000
DTEND;TZID=America/Detroit:20260520T200000
SUMMARY:Presentation:Waltzing with the Queen
DESCRIPTION:Join panelists Dr. Tia Culley\, Dr. Robert M. Hendershot\, and Dr. Steve Marsh and moderator Joel Westphal for a behind-the-scenes discussion about turning their upcoming book\, *The Ford Administration and Anglo-American Relations: Re-valuing an Interim Presidency* into an original museum exhibit.
UID:147810-21901991@events.umich.edu
URL:https://events.umich.edu/event/147810
CLASS:PUBLIC
STATUS:CONFIRMED
CATEGORIES:American History,Panel Discussion,Queen Elizabeth Ii
LOCATION:Gerald Ford Library - Auditorium
CONTACT:
END:VEVENT
END:VCALENDAR