BEGIN:VCALENDAR
VERSION:2.0
PRODID:-//UM//UM*Events//EN
CALSCALE:GREGORIAN
BEGIN:VTIMEZONE
TZID:America/Detroit
TZURL:http://tzurl.org/zoneinfo/America/Detroit
X-LIC-LOCATION:America/Detroit
BEGIN:DAYLIGHT
TZOFFSETFROM:-0500
TZOFFSETTO:-0400
TZNAME:EDT
DTSTART:20070311T020000
RRULE:FREQ=YEARLY;BYMONTH=3;BYDAY=2SU
END:DAYLIGHT
BEGIN:STANDARD
TZOFFSETFROM:-0400
TZOFFSETTO:-0500
TZNAME:EST
DTSTART:20071104T020000
RRULE:FREQ=YEARLY;BYMONTH=11;BYDAY=1SU
END:STANDARD
END:VTIMEZONE
BEGIN:VEVENT
DTSTAMP:20260416T150033
DTSTART;TZID=America/Detroit:20260421T160000
DTEND;TZID=America/Detroit:20260421T170000
SUMMARY:Workshop / Seminar:Special Seminar> Leading attenuators: turning off the integrated stress response
DESCRIPTION:Shyama Nandakumar is an MCDB and Rackham Barbour Alumna visiting from the University of Pittsburgh.\n\nThis seminar is co-hosted by Laura Buttitta\, Professor Molecular\, Cellular\, and Developmental Biology and Cheng-yu Lee\, Robert H Bartlett Collegiate Professor of the Life Sciences\, Research Associate Professor\, Life Sciences Institute\, Associate Professor of Internal Medicine and Associate Professor of Cell and Developmental Biology\, Medical School
UID:147812-21901993@events.umich.edu
URL:https://events.umich.edu/event/147812
CLASS:PUBLIC
STATUS:CONFIRMED
CATEGORIES:Biology,Bsbsigns,Life Science
LOCATION:Life Sciences Institute - Library
CONTACT:
END:VEVENT
END:VCALENDAR