BEGIN:VCALENDAR
VERSION:2.0
PRODID:-//UM//UM*Events//EN
CALSCALE:GREGORIAN
BEGIN:VTIMEZONE
TZID:America/Detroit
TZURL:http://tzurl.org/zoneinfo/America/Detroit
X-LIC-LOCATION:America/Detroit
BEGIN:DAYLIGHT
TZOFFSETFROM:-0500
TZOFFSETTO:-0400
TZNAME:EDT
DTSTART:20070311T020000
RRULE:FREQ=YEARLY;BYMONTH=3;BYDAY=2SU
END:DAYLIGHT
BEGIN:STANDARD
TZOFFSETFROM:-0400
TZOFFSETTO:-0500
TZNAME:EST
DTSTART:20071104T020000
RRULE:FREQ=YEARLY;BYMONTH=11;BYDAY=1SU
END:STANDARD
END:VTIMEZONE
BEGIN:VEVENT
DTSTAMP:20260416T171520
DTSTART;TZID=America/Detroit:20260507T163000
DTEND;TZID=America/Detroit:20260507T183000
SUMMARY:Tours:Leigh Steinberg Book Signing
DESCRIPTION:We invite you to a book signing with Leigh Steinberg for his new book\, “The Comeback: A Playbook for Turning Life's Setbacks Into Victories”\n\nThe U-M Injury Prevention Center is excited to host a book signing with Leigh Steinberg\, author\, sports-agent\, and philanthropist to celebrate the release of his new book\, “The Comeback: A Playbook for Turning Life's Setbacks Into Victories.” The event will include an introduction and welcome by Dr. Douglas Wiebe\, director of the U-M Injury Prevention Center\, as well as Jarrett Irons\, entrepreneur and former captain of the University of Michigan football team. All registered attendees will receive a free copy of the book with their ticket. This event is free and open to all. Light refreshments will be provided.\n\nThis event is co-sponsored by the U-M Department of Epidemiology\, the U-M Concussion Center\, and Jarrett Irons.
UID:147816-21901998@events.umich.edu
URL:https://events.umich.edu/event/147816
CLASS:PUBLIC
STATUS:CONFIRMED
CATEGORIES:Athletics,Concussion,Free,Injury Prevention
LOCATION:Michigan Union - Pendleton Room
CONTACT:
END:VEVENT
END:VCALENDAR