BEGIN:VCALENDAR
VERSION:2.0
PRODID:-//UM//UM*Events//EN
CALSCALE:GREGORIAN
BEGIN:VTIMEZONE
TZID:America/Detroit
TZURL:http://tzurl.org/zoneinfo/America/Detroit
X-LIC-LOCATION:America/Detroit
BEGIN:DAYLIGHT
TZOFFSETFROM:-0500
TZOFFSETTO:-0400
TZNAME:EDT
DTSTART:20070311T020000
RRULE:FREQ=YEARLY;BYMONTH=3;BYDAY=2SU
END:DAYLIGHT
BEGIN:STANDARD
TZOFFSETFROM:-0400
TZOFFSETTO:-0500
TZNAME:EST
DTSTART:20071104T020000
RRULE:FREQ=YEARLY;BYMONTH=11;BYDAY=1SU
END:STANDARD
END:VTIMEZONE
BEGIN:VEVENT
DTSTAMP:20260419T152036
DTSTART;TZID=America/Detroit:20260511T130000
DTEND;TZID=America/Detroit:20260511T140000
SUMMARY:Workshop / Seminar:ME Declaration Orientation - Summer 2026
DESCRIPTION:Be sure to watch the video that was linked to you and be prepared to ask questions.\nIf none of the available times work for you\, please email me-aso@umich.edu to find an alternative time to declare. 
UID:147832-21902019@events.umich.edu
URL:https://events.umich.edu/event/147832
CLASS:PUBLIC
STATUS:CONFIRMED
CATEGORIES:Sessions
LOCATION:
CONTACT:
END:VEVENT
END:VCALENDAR