BEGIN:VCALENDAR
VERSION:2.0
PRODID:-//UM//UM*Events//EN
CALSCALE:GREGORIAN
BEGIN:VTIMEZONE
TZID:America/Detroit
TZURL:http://tzurl.org/zoneinfo/America/Detroit
X-LIC-LOCATION:America/Detroit
BEGIN:DAYLIGHT
TZOFFSETFROM:-0500
TZOFFSETTO:-0400
TZNAME:EDT
DTSTART:20070311T020000
RRULE:FREQ=YEARLY;BYMONTH=3;BYDAY=2SU
END:DAYLIGHT
BEGIN:STANDARD
TZOFFSETFROM:-0400
TZOFFSETTO:-0500
TZNAME:EST
DTSTART:20071104T020000
RRULE:FREQ=YEARLY;BYMONTH=11;BYDAY=1SU
END:STANDARD
END:VTIMEZONE
BEGIN:VEVENT
DTSTAMP:20260417T130038
DTSTART;TZID=America/Detroit:20260620T173000
DTEND;TZID=America/Detroit:20260620T203000
SUMMARY:Fair / Festival:Supporting Kids at Every Age: A Mental Health Education Fair
DESCRIPTION:Through improvised conversations\, games\, and hands-on activities\, families will begin building their own “toolkit” of knowledge and coping resources to help them feel stronger and more resilient\, no matter what the day brings.\n\nInside The Annex (big tent on Ingalls Mall) at the Ann Arbor Summer Festival\, there will be stations for different mental health topics that are staffed by Michigan Medicine mental health experts: \n\n1.	Social media \n2.	Anxiety\n3.	Teen moodiness \n4. 	ADHD \n5.	Eating disorders\n6.	Substance Use\n7.	Warning signs for suicide \n8.	Coping station\n\nOur experts will share practical tips on the topics that matter most to kids and families\, and what to do when more serious mental health concerns arise.\n\nSee this event on the A2SF website\; https://www.a2sf.org/events/youth-mental-health-26/
UID:147841-21902032@events.umich.edu
URL:https://events.umich.edu/event/147841
CLASS:PUBLIC
STATUS:CONFIRMED
CATEGORIES:Addiction Care,Children,Community Service,Depression,Disability,Family,Free,Health,Health & Wellness,In Person,Mental Health,Mental Health Awareness Month,Mindfulness,Psychiatry,Psychology,Well-being,Wellness
LOCATION:Ingalls Mall
CONTACT:
END:VEVENT
END:VCALENDAR