BEGIN:VCALENDAR
VERSION:2.0
PRODID:-//UM//UM*Events//EN
CALSCALE:GREGORIAN
BEGIN:VTIMEZONE
TZID:America/Detroit
TZURL:http://tzurl.org/zoneinfo/America/Detroit
X-LIC-LOCATION:America/Detroit
BEGIN:DAYLIGHT
TZOFFSETFROM:-0500
TZOFFSETTO:-0400
TZNAME:EDT
DTSTART:20070311T020000
RRULE:FREQ=YEARLY;BYMONTH=3;BYDAY=2SU
END:DAYLIGHT
BEGIN:STANDARD
TZOFFSETFROM:-0400
TZOFFSETTO:-0500
TZNAME:EST
DTSTART:20071104T020000
RRULE:FREQ=YEARLY;BYMONTH=11;BYDAY=1SU
END:STANDARD
END:VTIMEZONE
BEGIN:VEVENT
DTSTAMP:20260417T141100
DTSTART;TZID=America/Detroit:20260502T111500
DTEND;TZID=America/Detroit:20260502T115900
SUMMARY:Film Screening:1950s Egyptian Stardom & Nation
DESCRIPTION:Free Film Screening!\n\nSaturday\, May 2nd\n11:15 AM – 12:00 PM\nMLB 1420 – Lec 2 Auditorium\n\nDr. Tanite Chahwan\, a recent doctoral studies recipient from Film\, Television\, and Media\, presents Kawakeb Masr: 1950s Egyptian Cinema and Stardom\, an audiovisual essay that brings to life the films\, stars\, and cultural imagination of 1950s Egypt. Blending research with personal reflection\, this film takes audiences on a journey through Egyptian cinema\, exploring stardom\, identity\, and the making of a nation on screen. \n\nNo background in Egyptian cinema required. Come curious!\n\n36-minute screening\, followed by a 10-minute Q&A.
UID:147844-21902033@events.umich.edu
URL:https://events.umich.edu/event/147844
CLASS:PUBLIC
STATUS:CONFIRMED
CATEGORIES:Africa,cinema,Education,Film,free,Global,Global Media,Graduate,Graduate and Professional Students,In Person,Media Studies
LOCATION:Modern Languages Building - MLB 1420
CONTACT:
END:VEVENT
END:VCALENDAR