BEGIN:VCALENDAR
VERSION:2.0
PRODID:-//UM//UM*Events//EN
CALSCALE:GREGORIAN
BEGIN:VTIMEZONE
TZID:America/Detroit
TZURL:http://tzurl.org/zoneinfo/America/Detroit
X-LIC-LOCATION:America/Detroit
BEGIN:DAYLIGHT
TZOFFSETFROM:-0500
TZOFFSETTO:-0400
TZNAME:EDT
DTSTART:20070311T020000
RRULE:FREQ=YEARLY;BYMONTH=3;BYDAY=2SU
END:DAYLIGHT
BEGIN:STANDARD
TZOFFSETFROM:-0400
TZOFFSETTO:-0500
TZNAME:EST
DTSTART:20071104T020000
RRULE:FREQ=YEARLY;BYMONTH=11;BYDAY=1SU
END:STANDARD
END:VTIMEZONE
BEGIN:VEVENT
DTSTAMP:20260417T144206
DTSTART;TZID=America/Detroit:20261009T080000
DTEND;TZID=America/Detroit:20261009T170000
SUMMARY:Conference / Symposium:Complexity in the Social World: The Challenging Case of ‘Place’
DESCRIPTION:The challenge: New data and approaches to study complexity in the social world has often been without a concurrent focus on the foundations of scientific inquiry\, including complex thinking\, broad causal thinking\, attention to epistemic lens\, and integrating multiple disciplinary approaches. Further\, the academic research model\, with its resource-segregated networks\, discipline-specific training\, and short-term productivity metrics\, contributes to a fragmented and potentially misleading understanding of the social world. In the second annual ISR Symposium on Complexity in the Social World\, we will use ‘place’ as the case study to facilitate discussions on rigorous social science in the public interest. \n\nUsing research on place as the case study\, discussion topics will include:\n- Complex thinking about the social world\n- The contribution of the humanities the study of the social world\n- Epistemic lens and research transparency\n- Theories\, frameworks\, and the limits of traditional causal inference\n- The draw and danger of cool new data \n- Addressing the challenges of the academic model of science\n\nPresentations on the science of place will include:\n- The relational nature of place in population social inequalities\n- The role of history in shaping place\n- The racialization of place\; the spatialization of race\n- Place as a neutral and rational driver of social inequalities\n- Approaches to testing (causal) ideas around place\n\nRegistration and information about travel awards for early career scholars will be available on this site soon.
UID:147845-21902039@events.umich.edu
URL:https://events.umich.edu/event/147845
CLASS:PUBLIC
STATUS:CONFIRMED
CATEGORIES:Interdisciplinary,Social Sciences
LOCATION:Institute For Social Research
CONTACT:
END:VEVENT
END:VCALENDAR