BEGIN:VCALENDAR
VERSION:2.0
PRODID:-//UM//UM*Events//EN
CALSCALE:GREGORIAN
BEGIN:VTIMEZONE
TZID:America/Detroit
TZURL:http://tzurl.org/zoneinfo/America/Detroit
X-LIC-LOCATION:America/Detroit
BEGIN:DAYLIGHT
TZOFFSETFROM:-0500
TZOFFSETTO:-0400
TZNAME:EDT
DTSTART:20070311T020000
RRULE:FREQ=YEARLY;BYMONTH=3;BYDAY=2SU
END:DAYLIGHT
BEGIN:STANDARD
TZOFFSETFROM:-0400
TZOFFSETTO:-0500
TZNAME:EST
DTSTART:20071104T020000
RRULE:FREQ=YEARLY;BYMONTH=11;BYDAY=1SU
END:STANDARD
END:VTIMEZONE
BEGIN:VEVENT
DTSTAMP:20260417T200414
DTSTART;TZID=America/Detroit:20260420T190000
DTEND;TZID=America/Detroit:20260420T210000
SUMMARY:Lecture / Discussion:The 2026 Robert F. Berkhofer Jr. Lecture: An Evening with Jana Schmieding
DESCRIPTION:Join us for the 2026 Robert F. Berkhofer Jr. Lecture hosted by the Native American Studies Program!\n\nActress\, comedian\, writer Jana Schmieding (Lakota) will be delivering the lecture this coming Monday\, April 20th at 7 pm in the Rogel ballroom in the Union. Jana was the star of Rutherford Falls\, the first television/streaming show with a Native showrunner and predominantly Native writers' room. She was also a fan favorite in Reservation Dogs.
UID:147847-21902041@events.umich.edu
URL:https://events.umich.edu/event/147847
CLASS:PUBLIC
STATUS:CONFIRMED
CATEGORIES:Comedy,Native American,Native American Studies
LOCATION:Michigan Union - Rogel Ballroom
CONTACT:
END:VEVENT
END:VCALENDAR