BEGIN:VCALENDAR
VERSION:2.0
PRODID:-//UM//UM*Events//EN
CALSCALE:GREGORIAN
BEGIN:VTIMEZONE
TZID:America/Detroit
TZURL:http://tzurl.org/zoneinfo/America/Detroit
X-LIC-LOCATION:America/Detroit
BEGIN:DAYLIGHT
TZOFFSETFROM:-0500
TZOFFSETTO:-0400
TZNAME:EDT
DTSTART:20070311T020000
RRULE:FREQ=YEARLY;BYMONTH=3;BYDAY=2SU
END:DAYLIGHT
BEGIN:STANDARD
TZOFFSETFROM:-0400
TZOFFSETTO:-0500
TZNAME:EST
DTSTART:20071104T020000
RRULE:FREQ=YEARLY;BYMONTH=11;BYDAY=1SU
END:STANDARD
END:VTIMEZONE
BEGIN:VEVENT
DTSTAMP:20260420T120120
DTSTART;TZID=America/Detroit:20260502T111500
DTEND;TZID=America/Detroit:20260502T120000
SUMMARY:Other:Read and Look | *Who Built the Pyramid?*
DESCRIPTION:Who built the pyramid of King Senwosret? Was it the pharaoh? The high priest? The water carrier? Featuring vibrant illustrations by Robin Heighway-Bury\, Meredith Hooper’s *Who Built the Pyramid?* reveals the collective effort behind these ancient wonders\, showing that everyone—not just the king—contributed to the massive project.\n\nThe Kelsey’s “Read and Look” program is a great first trip to the museum\, providing visitors with opportunities to explore past and present cultures and connect with others. This event is free and open to everyone but is intended for children ages 4–8.\n\nThis event is free and open to all visitors. If you have any questions or concerns regarding accessing this event\, please visit our accessibility page at https://myumi.ch/zwPkd or contact the education office by calling (734) 647-4167. We ask for advance notice as some accommodations may require more time for the university to arrange.
UID:147863-21902087@events.umich.edu
URL:https://events.umich.edu/event/147863
CLASS:PUBLIC
STATUS:CONFIRMED
CATEGORIES:Africa,Ancient Egypt,Archaeology,Books,Children,Family,Free,History,Museum
LOCATION:Kelsey Museum of Archaeology
CONTACT:
END:VEVENT
END:VCALENDAR