BEGIN:VCALENDAR
VERSION:2.0
PRODID:-//UM//UM*Events//EN
CALSCALE:GREGORIAN
BEGIN:VTIMEZONE
TZID:America/Detroit
TZURL:http://tzurl.org/zoneinfo/America/Detroit
X-LIC-LOCATION:America/Detroit
BEGIN:DAYLIGHT
TZOFFSETFROM:-0500
TZOFFSETTO:-0400
TZNAME:EDT
DTSTART:20070311T020000
RRULE:FREQ=YEARLY;BYMONTH=3;BYDAY=2SU
END:DAYLIGHT
BEGIN:STANDARD
TZOFFSETFROM:-0400
TZOFFSETTO:-0500
TZNAME:EST
DTSTART:20071104T020000
RRULE:FREQ=YEARLY;BYMONTH=11;BYDAY=1SU
END:STANDARD
END:VTIMEZONE
BEGIN:VEVENT
DTSTAMP:20260420T122132
DTSTART;TZID=America/Detroit:20260521T160000
DTEND;TZID=America/Detroit:20260521T193000
SUMMARY:Other:Third Thursday | Late Night at the Kelsey!
DESCRIPTION:The Kelsey Museum is open late! On the third Thursday of each month\, the Kelsey will be open from 4:00 to 7:30 PM. Come check out the galleries after work\, after school\, or after dinner downtown.\n\nThis event is free and open to all visitors. If you have any questions or concerns regarding accessing this event\, please visit our accessibility page at https://myumi.ch/zwPkd or contact the education office by calling (734) 647-4167. We ask for advance notice as some accommodations may require more time for the university to arrange.
UID:147869-21902093@events.umich.edu
URL:https://events.umich.edu/event/147869
CLASS:PUBLIC
STATUS:CONFIRMED
CATEGORIES:Ancient Egypt,Ancient Greece,Ancient Middle East,Ancient Rome,Archaeology,Free,Museum
LOCATION:Kelsey Museum of Archaeology
CONTACT:
END:VEVENT
END:VCALENDAR