BEGIN:VCALENDAR
VERSION:2.0
PRODID:-//UM//UM*Events//EN
CALSCALE:GREGORIAN
BEGIN:VTIMEZONE
TZID:America/Detroit
TZURL:http://tzurl.org/zoneinfo/America/Detroit
X-LIC-LOCATION:America/Detroit
BEGIN:DAYLIGHT
TZOFFSETFROM:-0500
TZOFFSETTO:-0400
TZNAME:EDT
DTSTART:20070311T020000
RRULE:FREQ=YEARLY;BYMONTH=3;BYDAY=2SU
END:DAYLIGHT
BEGIN:STANDARD
TZOFFSETFROM:-0400
TZOFFSETTO:-0500
TZNAME:EST
DTSTART:20071104T020000
RRULE:FREQ=YEARLY;BYMONTH=11;BYDAY=1SU
END:STANDARD
END:VTIMEZONE
BEGIN:VEVENT
DTSTAMP:20260420T150203
DTSTART;TZID=America/Detroit:20260530T130000
DTEND;TZID=America/Detroit:20260530T143000
SUMMARY:Tours:Walking Tour: Paths of Protest: Stories of Campus Activism at the University of Michigan
DESCRIPTION:The first teach-in. Lawsuits. Nazi resistance. U-M has long been home to activism\, and this walking tour will visit historically significant locations where you will learn about protests on campus. We will cover women’s activism\, the legacy of the Treaty of Fort Meigs\, the Black Action Movement\, anti-Vietnam War activism\, and more.\n\nGuided walking tour led by student docents. Duration: 1.25 hours\; 1.25 miles.\n\nMeet outside the Michigan League entrance on Ingalls Mall (facing the fountain).\n\nTour will take place in rain or snow\, but will be cancelled for severe weather (registrants will be notified via email).\n\nRegistration required.
UID:147876-21902104@events.umich.edu
URL:https://events.umich.edu/event/147876
CLASS:PUBLIC
STATUS:CONFIRMED
CATEGORIES:Activism,bentley historical library,bentley library,free,history,tour,U-m History,university history,university of michigan history
LOCATION:Michigan League
CONTACT:
END:VEVENT
END:VCALENDAR