BEGIN:VCALENDAR
VERSION:2.0
PRODID:-//UM//UM*Events//EN
CALSCALE:GREGORIAN
BEGIN:VTIMEZONE
TZID:America/Detroit
TZURL:http://tzurl.org/zoneinfo/America/Detroit
X-LIC-LOCATION:America/Detroit
BEGIN:DAYLIGHT
TZOFFSETFROM:-0500
TZOFFSETTO:-0400
TZNAME:EDT
DTSTART:20070311T020000
RRULE:FREQ=YEARLY;BYMONTH=3;BYDAY=2SU
END:DAYLIGHT
BEGIN:STANDARD
TZOFFSETFROM:-0400
TZOFFSETTO:-0500
TZNAME:EST
DTSTART:20071104T020000
RRULE:FREQ=YEARLY;BYMONTH=11;BYDAY=1SU
END:STANDARD
END:VTIMEZONE
BEGIN:VEVENT
DTSTAMP:20260420T152901
DTSTART;TZID=America/Detroit:20260514T120000
DTEND;TZID=America/Detroit:20260514T130000
SUMMARY:Livestream / Virtual:When Faculty Thrive\,  Students Succeed
DESCRIPTION:There is well documented research that highlights the crucial role STEM faculty play in shaping student experiences\, impacting well-being\, retention\, and graduation rates. At the same time\, academic institutions must adopt a shared success model where faculty and students alike are supported and valued. \n\nJoin us for a webinar where expert speakers will delve into the multifaceted synergies between faculty and student success across classrooms\, labs and research teams\, and campus-wide initiatives. Whether you’re a seasoned or early-career faculty member\, we invite you to join us in exploring the latest research\, new and evolving challenges\, and promising interventions for equitable faculty success and student learning.
UID:147877-21902105@events.umich.edu
URL:https://events.umich.edu/event/147877
CLASS:PUBLIC
STATUS:CONFIRMED
CATEGORIES:Faculty,Research,Researchers,Stem
LOCATION:Off Campus Location
CONTACT:
END:VEVENT
END:VCALENDAR