BEGIN:VCALENDAR
VERSION:2.0
PRODID:-//UM//UM*Events//EN
CALSCALE:GREGORIAN
BEGIN:VTIMEZONE
TZID:America/Detroit
TZURL:http://tzurl.org/zoneinfo/America/Detroit
X-LIC-LOCATION:America/Detroit
BEGIN:DAYLIGHT
TZOFFSETFROM:-0500
TZOFFSETTO:-0400
TZNAME:EDT
DTSTART:20070311T020000
RRULE:FREQ=YEARLY;BYMONTH=3;BYDAY=2SU
END:DAYLIGHT
BEGIN:STANDARD
TZOFFSETFROM:-0400
TZOFFSETTO:-0500
TZNAME:EST
DTSTART:20071104T020000
RRULE:FREQ=YEARLY;BYMONTH=11;BYDAY=1SU
END:STANDARD
END:VTIMEZONE
BEGIN:VEVENT
DTSTAMP:20260420T181545
DTSTART;TZID=America/Detroit:20260503T140000
DTEND;TZID=America/Detroit:20260503T150000
SUMMARY:Performance:Senior Showcase Preview - Department of Dance Class of 2026
DESCRIPTION:Under the supervision of Jillian Hopper and Kara Roseborough\, students graduating with the BFA in Dance perform self-choreographed solo and ensemble works ahead of their upcoming showcase in New York City.
UID:147879-21902106@events.umich.edu
URL:https://events.umich.edu/event/147879
CLASS:PUBLIC
STATUS:CONFIRMED
CATEGORIES:Dance,Free,North Campus
LOCATION:Dance Building - Dance Performance Studio Theatre
CONTACT:
END:VEVENT
END:VCALENDAR