BEGIN:VCALENDAR
VERSION:2.0
PRODID:-//UM//UM*Events//EN
CALSCALE:GREGORIAN
BEGIN:VTIMEZONE
TZID:America/Detroit
TZURL:http://tzurl.org/zoneinfo/America/Detroit
X-LIC-LOCATION:America/Detroit
BEGIN:DAYLIGHT
TZOFFSETFROM:-0500
TZOFFSETTO:-0400
TZNAME:EDT
DTSTART:20070311T020000
RRULE:FREQ=YEARLY;BYMONTH=3;BYDAY=2SU
END:DAYLIGHT
BEGIN:STANDARD
TZOFFSETFROM:-0400
TZOFFSETTO:-0500
TZNAME:EST
DTSTART:20071104T020000
RRULE:FREQ=YEARLY;BYMONTH=11;BYDAY=1SU
END:STANDARD
END:VTIMEZONE
BEGIN:VEVENT
DTSTAMP:20260421T101519
DTSTART;TZID=America/Detroit:20260714T170000
DTEND;TZID=America/Detroit:20260714T183000
SUMMARY:Livestream / Virtual:Virtual Pre-Health Information Sessions
DESCRIPTION:As you embark on your journey toward a healthcare career\, this Pre-Health Information Session is designed to provide you with the foundational tools and resources to help you start your time at the University of Michigan.\n\nAt the end of this session\, you will be able to define how pre-health advising is utilized at the LSA Newnan Academic Advising Center\, familiarize yourself with course recommendations\, navigate our pre-health website\, and apply resources to your pre-health journey.
UID:147885-21902308@events.umich.edu
URL:https://events.umich.edu/event/147885
CLASS:PUBLIC
STATUS:CONFIRMED
CATEGORIES:Advising,Newnan,Newnan Academic Advising,Newnan Lsa Academic Advising Center,Pre Med
LOCATION:Off Campus Location
CONTACT:
END:VEVENT
END:VCALENDAR