BEGIN:VCALENDAR
VERSION:2.0
PRODID:-//UM//UM*Events//EN
CALSCALE:GREGORIAN
BEGIN:VTIMEZONE
TZID:America/Detroit
TZURL:http://tzurl.org/zoneinfo/America/Detroit
X-LIC-LOCATION:America/Detroit
BEGIN:DAYLIGHT
TZOFFSETFROM:-0500
TZOFFSETTO:-0400
TZNAME:EDT
DTSTART:20070311T020000
RRULE:FREQ=YEARLY;BYMONTH=3;BYDAY=2SU
END:DAYLIGHT
BEGIN:STANDARD
TZOFFSETFROM:-0400
TZOFFSETTO:-0500
TZNAME:EST
DTSTART:20071104T020000
RRULE:FREQ=YEARLY;BYMONTH=11;BYDAY=1SU
END:STANDARD
END:VTIMEZONE
BEGIN:VEVENT
DTSTAMP:20260421T132100
DTSTART;TZID=America/Detroit:20260427T160000
DTEND;TZID=America/Detroit:20260427T170000
SUMMARY:Livestream / Virtual:Transfer Student Pre-Orientation Information Sessions
DESCRIPTION:f you are looking for guidance and support before attending your Virtual Orientation Academic Advising Appointment\, we encourage you to attend one of our pre-orientation information sessions. This does not replace the advising appointment. Our webinars are designed to help you smoothly transition into UM. You'll gain insights into:\n\n- Your degree requirements\n- How transfer credits apply to your UM degree\n- Navigating the LSA Course Guide\n- Using Wolverine Access to \"backpack\" classes\n- Required placement exams that must be taken before orientation\nGeneral questions about transferring to UM
UID:147890-21902329@events.umich.edu
URL:https://events.umich.edu/event/147890
CLASS:PUBLIC
STATUS:CONFIRMED
CATEGORIES:Advising,Newnan,Newnan Lsa Academic Advising Center,Transfer Student Center,Transfer Students
LOCATION:Off Campus Location
CONTACT:
END:VEVENT
END:VCALENDAR